BEGIN:VCALENDAR
VERSION:2.0
PRODID:-//AusschreibungsRadar//Timeline//DE
CALSCALE:GREGORIAN
METHOD:PUBLISH
X-WR-CALNAME:Projekt Offenes Verfahren (EU-weit) zur Vergabe von Sicherheitsdiens
X-WR-TIMEZONE:Europe/Berlin
BEGIN:VEVENT
UID:1a80b0473e104061@ausschreibungsradar.com
DTSTAMP:20260424T133202Z
DTSTART;VALUE=DATE:20240131
DTEND;VALUE=DATE:20240131
SUMMARY:Angebotsfrist — Offenes Verfahren (EU-weit) zur Vergabe von Sicherheitsdiens
DESCRIPTION:Phase: Ausschreibung | Beschreibung: Angebote werden eingeholt | Link: https://ausschreibungsradar.com/ausschreibung/2ca0b60e-d57e-4cdb-af71-3c30e90c01b7/
URL:https://ausschreibungsradar.com/ausschreibung/2ca0b60e-d57e-4cdb-af71-3c30e90c01b7/
END:VEVENT
BEGIN:VEVENT
UID:52151d2b36697e6e@ausschreibungsradar.com
DTSTAMP:20260424T133202Z
DTSTART;VALUE=DATE:20240307
DTEND;VALUE=DATE:20240307
SUMMARY:Zuschlag — Offenes Verfahren (EU-weit) zur Vergabe von Sicherheitsdiens
DESCRIPTION:Phase: Zuschlag | Beschreibung: Vergabeergebnis — Auftrag wurde erteilt oder Verfahren beendet. | Link: https://ausschreibungsradar.com/ausschreibung/5490b100-706b-4401-88d3-2e122659c35e/
URL:https://ausschreibungsradar.com/ausschreibung/5490b100-706b-4401-88d3-2e122659c35e/
END:VEVENT
BEGIN:VEVENT
UID:4e63561bcead220d@ausschreibungsradar.com
DTSTAMP:20260424T133202Z
DTSTART;VALUE=DATE:20240404
DTEND;VALUE=DATE:20240404
SUMMARY:Vergabeergebnis — Offenes Verfahren (EU-weit) zur Vergabe von Sicherheitsdiens
DESCRIPTION:Phase: Vergabeergebnis | Beschreibung: Auftrag wurde zugeschlagen | Link: https://ausschreibungsradar.com/ausschreibung/45b76662-49e7-428c-8aee-dc59cbd92c4b/
URL:https://ausschreibungsradar.com/ausschreibung/45b76662-49e7-428c-8aee-dc59cbd92c4b/
END:VEVENT
END:VCALENDAR
