BEGIN:VCALENDAR
VERSION:2.0
PRODID:-//AusschreibungsRadar//Timeline//DE
CALSCALE:GREGORIAN
METHOD:PUBLISH
X-WR-CALNAME:Projekt EKG-Managementsystem (EKGM) - KHZG FTB 03
X-WR-TIMEZONE:Europe/Berlin
BEGIN:VEVENT
UID:1279b30f9fddf971@ausschreibungsradar.com
DTSTAMP:20260424T222717Z
DTSTART;VALUE=DATE:20250815
DTEND;VALUE=DATE:20250815
SUMMARY:Angebotsfrist — EKG-Managementsystem (EKGM) - KHZG FTB 03
DESCRIPTION:Phase: Ausschreibung | Beschreibung: Angebote werden eingeholt | Link: https://ausschreibungsradar.com/ausschreibung/4640f8cf-99ab-47d0-82b4-0ca98fd2f3c7/ | Geschätzter Wert: 100000 €
URL:https://ausschreibungsradar.com/ausschreibung/4640f8cf-99ab-47d0-82b4-0ca98fd2f3c7/
END:VEVENT
BEGIN:VEVENT
UID:b2a381e4d3b56924@ausschreibungsradar.com
DTSTAMP:20260424T222717Z
DTSTART;VALUE=DATE:20260320
DTEND;VALUE=DATE:20260320
SUMMARY:Vergabeergebnis — EKG-Managementsystem (EKGM) - KHZG FTB 03
DESCRIPTION:Phase: Vergabeergebnis | Beschreibung: Auftrag wurde zugeschlagen | Link: https://ausschreibungsradar.com/ausschreibung/8c56d9b7-6765-426e-a121-78146ef1483d/
URL:https://ausschreibungsradar.com/ausschreibung/8c56d9b7-6765-426e-a121-78146ef1483d/
END:VEVENT
END:VCALENDAR
