BEGIN:VCALENDAR
VERSION:2.0
PRODID:-//AusschreibungsRadar//Timeline//DE
CALSCALE:GREGORIAN
METHOD:PUBLISH
X-WR-CALNAME:Projekt Ausbau / Erneuerung Lüftungsanlagen, Klimatisierung Regie-Ka
X-WR-TIMEZONE:Europe/Berlin
BEGIN:VEVENT
UID:6a3e6bcabc715878@ausschreibungsradar.com
DTSTAMP:20260424T130603Z
DTSTART;VALUE=DATE:20241125
DTEND;VALUE=DATE:20241125
SUMMARY:Angebotsfrist — Ausbau / Erneuerung Lüftungsanlagen\, Klimatisierung Regie-Ka
DESCRIPTION:Phase: Ausschreibung | Beschreibung: Angebote werden eingeholt | Link: https://ausschreibungsradar.com/ausschreibung/4650cba9-296c-4f6c-9e7b-8eccaa4d08ad/
URL:https://ausschreibungsradar.com/ausschreibung/4650cba9-296c-4f6c-9e7b-8eccaa4d08ad/
END:VEVENT
BEGIN:VEVENT
UID:bd6a03e4f6d37bc8@ausschreibungsradar.com
DTSTAMP:20260424T130603Z
DTSTART;VALUE=DATE:20250411
DTEND;VALUE=DATE:20250411
SUMMARY:Vergabeergebnis — Ausbau / Erneuerung Lüftungsanlagen\, Klimatisierung Regie-Ka
DESCRIPTION:Phase: Vergabeergebnis | Beschreibung: Auftrag wurde zugeschlagen | Link: https://ausschreibungsradar.com/ausschreibung/a0224093-5fbc-42b4-9fbf-89b7c6b03a95/
URL:https://ausschreibungsradar.com/ausschreibung/a0224093-5fbc-42b4-9fbf-89b7c6b03a95/
END:VEVENT
END:VCALENDAR
