BEGIN:VCALENDAR
VERSION:2.0
PRODID:-//AusschreibungsRadar//Timeline//DE
CALSCALE:GREGORIAN
METHOD:PUBLISH
X-WR-CALNAME:Projekt BLB NRW / NL Dortmund / Uni Siegen (2186) Ber. Prof. Chris. 
X-WR-TIMEZONE:Europe/Berlin
BEGIN:VEVENT
UID:2bd4e4a0addaf08b@ausschreibungsradar.com
DTSTAMP:20260426T021041Z
DTSTART;VALUE=DATE:20250730
DTEND;VALUE=DATE:20250730
SUMMARY:Ausschreibung — BLB NRW / NL Dortmund / Uni Siegen (2186) Ber. Prof. Chris. 
DESCRIPTION:Phase: Ausschreibung | Beschreibung: Offizielle Ausschreibung mit Bieterfrist. | Link: https://ausschreibungsradar.com/ausschreibung/24204562/
URL:https://ausschreibungsradar.com/ausschreibung/24204562/
END:VEVENT
BEGIN:VEVENT
UID:7fde1b0fb07aa88a@ausschreibungsradar.com
DTSTAMP:20260426T021041Z
DTSTART;VALUE=DATE:20250813
DTEND;VALUE=DATE:20250813
SUMMARY:Ausschreibung — BLB NRW / NL Dortmund / Uni Siegen (2186) Ber. Prof. Chris. 
DESCRIPTION:Phase: Ausschreibung | Beschreibung: Offizielle Ausschreibung mit Bieterfrist. | Link: https://ausschreibungsradar.com/ausschreibung/4793dfb8-e1be-4a54-919d-9db3f4d8beb5/
URL:https://ausschreibungsradar.com/ausschreibung/4793dfb8-e1be-4a54-919d-9db3f4d8beb5/
END:VEVENT
END:VCALENDAR
