BEGIN:VCALENDAR
VERSION:2.0
PRODID:-//AusschreibungsRadar//Timeline//DE
CALSCALE:GREGORIAN
METHOD:PUBLISH
X-WR-CALNAME:Projekt studierendenWERK BERLIN WH Siegmunds Hof 17, Haus 1, Tischle
X-WR-TIMEZONE:Europe/Berlin
BEGIN:VEVENT
UID:91b1a88653b31b48@ausschreibungsradar.com
DTSTAMP:20260424T031440Z
DTSTART;VALUE=DATE:20240724
DTEND;VALUE=DATE:20240724
SUMMARY:Angebotsfrist — studierendenWERK BERLIN WH Siegmunds Hof 17\, Haus 1\, Tischle
DESCRIPTION:Phase: Ausschreibung | Beschreibung: Angebote werden eingeholt | Link: https://ausschreibungsradar.com/ausschreibung/16b3cdce-66a8-4bba-be31-155a9ea32c25/
URL:https://ausschreibungsradar.com/ausschreibung/16b3cdce-66a8-4bba-be31-155a9ea32c25/
END:VEVENT
BEGIN:VEVENT
UID:d8e303c23964987e@ausschreibungsradar.com
DTSTAMP:20260424T031440Z
DTSTART;VALUE=DATE:20241010
DTEND;VALUE=DATE:20241010
SUMMARY:Zuschlag — studierendenWERK BERLIN WH Siegmunds Hof 17\, Haus 1\, Tischle
DESCRIPTION:Phase: Zuschlag | Beschreibung: Vergabeergebnis — Auftrag wurde erteilt oder Verfahren beendet. | Link: https://ausschreibungsradar.com/ausschreibung/39150d2c-66d0-4807-a92f-06c84bc7209e/
URL:https://ausschreibungsradar.com/ausschreibung/39150d2c-66d0-4807-a92f-06c84bc7209e/
END:VEVENT
BEGIN:VEVENT
UID:c9d44dfae6a4c33d@ausschreibungsradar.com
DTSTAMP:20260424T031440Z
DTSTART;VALUE=DATE:20241011
DTEND;VALUE=DATE:20241011
SUMMARY:Vergabeergebnis — studierendenWERK BERLIN WH Siegmunds Hof 17\, Haus 1\, Tischle
DESCRIPTION:Phase: Vergabeergebnis | Beschreibung: Auftrag wurde zugeschlagen | Link: https://ausschreibungsradar.com/ausschreibung/48dcdd56-76fb-4816-b9eb-fa2de2415bb1/
URL:https://ausschreibungsradar.com/ausschreibung/48dcdd56-76fb-4816-b9eb-fa2de2415bb1/
END:VEVENT
BEGIN:VEVENT
UID:0cd4511bd5b23811@ausschreibungsradar.com
DTSTAMP:20260424T031440Z
DTSTART;VALUE=DATE:20241011
DTEND;VALUE=DATE:20241011
SUMMARY:Zuschlag — studierendenWERK BERLIN WH Siegmunds Hof 17\, Haus 1\, Tischle
DESCRIPTION:Phase: Zuschlag | Beschreibung: Vergabeergebnis — Auftrag wurde erteilt oder Verfahren beendet. | Link: https://ausschreibungsradar.com/ausschreibung/2f195e94-04a0-47c9-9a72-082f22e2921f/
URL:https://ausschreibungsradar.com/ausschreibung/2f195e94-04a0-47c9-9a72-082f22e2921f/
END:VEVENT
BEGIN:VEVENT
UID:d1132592e63e4acb@ausschreibungsradar.com
DTSTAMP:20260424T031440Z
DTSTART;VALUE=DATE:20241028
DTEND;VALUE=DATE:20241028
SUMMARY:Zuschlag — studierendenWERK BERLIN WH Siegmunds Hof 17\, Haus 1\, Tischle
DESCRIPTION:Phase: Zuschlag | Beschreibung: Vergabeergebnis — Auftrag wurde erteilt oder Verfahren beendet. | Link: https://ausschreibungsradar.com/ausschreibung/91c2ead2-ac62-4e8c-8d09-c1581b6d3686/
URL:https://ausschreibungsradar.com/ausschreibung/91c2ead2-ac62-4e8c-8d09-c1581b6d3686/
END:VEVENT
BEGIN:VEVENT
UID:e216952a5fff2292@ausschreibungsradar.com
DTSTAMP:20260424T031440Z
DTSTART;VALUE=DATE:20241106
DTEND;VALUE=DATE:20241106
SUMMARY:Zuschlag — studierendenWERK BERLIN WH Siegmunds Hof 17\, Haus 1\, Tischle
DESCRIPTION:Phase: Zuschlag | Beschreibung: Vergabeergebnis — Auftrag wurde erteilt oder Verfahren beendet. | Link: https://ausschreibungsradar.com/ausschreibung/22967000/
URL:https://ausschreibungsradar.com/ausschreibung/22967000/
END:VEVENT
END:VCALENDAR
