BEGIN:VCALENDAR
VERSION:2.0
PRODID:-//AusschreibungsRadar//Timeline//DE
CALSCALE:GREGORIAN
METHOD:PUBLISH
X-WR-CALNAME:Projekt Bewachung der Liegenschaft des MRI in Karlsruhe
X-WR-TIMEZONE:Europe/Berlin
BEGIN:VEVENT
UID:ee49e3b2abfe94bc@ausschreibungsradar.com
DTSTAMP:20260425T173852Z
DTSTART;VALUE=DATE:20260313
DTEND;VALUE=DATE:20260313
SUMMARY:Ausschreibung — Bewachung der Liegenschaft des MRI in Karlsruhe
DESCRIPTION:Phase: Ausschreibung | Beschreibung: Angebote werden eingeholt | Link: https://ausschreibungsradar.com/ausschreibung/4a28b0e6-fb8e-4bca-a41a-a0e82a14472c/
URL:https://ausschreibungsradar.com/ausschreibung/4a28b0e6-fb8e-4bca-a41a-a0e82a14472c/
END:VEVENT
BEGIN:VEVENT
UID:bb5354a82b2df9e9@ausschreibungsradar.com
DTSTAMP:20260425T173852Z
DTSTART;VALUE=DATE:20260313
DTEND;VALUE=DATE:20260313
SUMMARY:Ausschreibung — Bewachung der Liegenschaft des MRI in Karlsruhe
DESCRIPTION:Phase: Ausschreibung | Beschreibung: Offizielle Ausschreibung mit Bieterfrist. | Link: https://ausschreibungsradar.com/ausschreibung/730e22d5-b99c-426a-900d-504086c7c56f/
URL:https://ausschreibungsradar.com/ausschreibung/730e22d5-b99c-426a-900d-504086c7c56f/
END:VEVENT
END:VCALENDAR
