BEGIN:VCALENDAR
VERSION:2.0
PRODID:-//AusschreibungsRadar//Timeline//DE
CALSCALE:GREGORIAN
METHOD:PUBLISH
X-WR-CALNAME:Projekt Lieferungen und Installationen von Serversystemen und Netzwe
X-WR-TIMEZONE:Europe/Berlin
BEGIN:VEVENT
UID:8c1e8adf3eea56f1@ausschreibungsradar.com
DTSTAMP:20260424T054820Z
DTSTART;VALUE=DATE:20230718
DTEND;VALUE=DATE:20230718
SUMMARY:Angebotsfrist — Lieferungen und Installationen von Serversystemen und Netzwe
DESCRIPTION:Phase: Ausschreibung | Beschreibung: Angebote werden eingeholt | Link: https://ausschreibungsradar.com/ausschreibung/d98f86fc-7dd3-4471-b77a-8172132afbab/
URL:https://ausschreibungsradar.com/ausschreibung/d98f86fc-7dd3-4471-b77a-8172132afbab/
END:VEVENT
BEGIN:VEVENT
UID:d1cfd41f1d3fc545@ausschreibungsradar.com
DTSTAMP:20260424T054820Z
DTSTART;VALUE=DATE:20230825
DTEND;VALUE=DATE:20230825
SUMMARY:Vergabeergebnis — Lieferungen und Installationen von Serversystemen und Netzwe
DESCRIPTION:Phase: Vergabeergebnis | Beschreibung: Auftrag wurde zugeschlagen | Link: https://ausschreibungsradar.com/ausschreibung/4a38a48b-9900-4c19-aab9-4c57c4748a7e/ | Auftragnehmer: ACP IT Solutions AG
URL:https://ausschreibungsradar.com/ausschreibung/4a38a48b-9900-4c19-aab9-4c57c4748a7e/
END:VEVENT
END:VCALENDAR
