BEGIN:VCALENDAR
VERSION:2.0
PRODID:-//AusschreibungsRadar//Timeline//DE
CALSCALE:GREGORIAN
METHOD:PUBLISH
X-WR-CALNAME:Projekt batterieelektrisches Fahrzeug
X-WR-TIMEZONE:Europe/Berlin
BEGIN:VEVENT
UID:59048eb935c62a47@ausschreibungsradar.com
DTSTAMP:20260425T164051Z
DTSTART;VALUE=DATE:20240705
DTEND;VALUE=DATE:20240705
SUMMARY:Ausschreibung — batterieelektrisches Fahrzeug
DESCRIPTION:Phase: Ausschreibung | Beschreibung: Angebote werden eingeholt | Link: https://ausschreibungsradar.com/ausschreibung/4a7372bc-52c8-4cf5-9989-bb6fff213ad9/
URL:https://ausschreibungsradar.com/ausschreibung/4a7372bc-52c8-4cf5-9989-bb6fff213ad9/
END:VEVENT
BEGIN:VEVENT
UID:29a0ee4cc50010ac@ausschreibungsradar.com
DTSTAMP:20260425T164051Z
DTSTART;VALUE=DATE:20240705
DTEND;VALUE=DATE:20240705
SUMMARY:Änderung — batterieelektrisches Fahrzeug
DESCRIPTION:Phase: Änderung | Beschreibung: Verfahren abgebrochen | Link: https://ausschreibungsradar.com/ausschreibung/4a7372bc-52c8-4cf5-9989-bb6fff213ad9/
URL:https://ausschreibungsradar.com/ausschreibung/4a7372bc-52c8-4cf5-9989-bb6fff213ad9/
END:VEVENT
END:VCALENDAR
