BEGIN:VCALENDAR
VERSION:2.0
PRODID:-//AusschreibungsRadar//Timeline//DE
CALSCALE:GREGORIAN
METHOD:PUBLISH
X-WR-CALNAME:Projekt Mobile Patientenschränke
X-WR-TIMEZONE:Europe/Berlin
BEGIN:VEVENT
UID:b122179fe2abf02b@ausschreibungsradar.com
DTSTAMP:20260424T035550Z
DTSTART;VALUE=DATE:20250321
DTEND;VALUE=DATE:20250321
SUMMARY:Ausschreibung — Mobile Patientenschränke
DESCRIPTION:Phase: Ausschreibung | Beschreibung: Angebote werden eingeholt | Link: https://ausschreibungsradar.com/ausschreibung/471872db-8214-48e5-8a7b-169028ead1b1/ | Geschätzter Wert: 221000 €
URL:https://ausschreibungsradar.com/ausschreibung/471872db-8214-48e5-8a7b-169028ead1b1/
END:VEVENT
BEGIN:VEVENT
UID:136748babed0cb4d@ausschreibungsradar.com
DTSTAMP:20260424T035550Z
DTSTART;VALUE=DATE:20250321
DTEND;VALUE=DATE:20250321
SUMMARY:Ausschreibung — Mobile Patientenschränke
DESCRIPTION:Phase: Ausschreibung | Beschreibung: Offizielle Ausschreibung mit Bieterfrist. | Link: https://ausschreibungsradar.com/ausschreibung/829f1f46-8a22-4803-a89e-dd29e84501ab/
URL:https://ausschreibungsradar.com/ausschreibung/829f1f46-8a22-4803-a89e-dd29e84501ab/
END:VEVENT
BEGIN:VEVENT
UID:949efc02484b99e5@ausschreibungsradar.com
DTSTAMP:20260424T035550Z
DTSTART;VALUE=DATE:20251014
DTEND;VALUE=DATE:20251014
SUMMARY:Vergabeergebnis — Mobile Patientenschränke
DESCRIPTION:Phase: Vergabeergebnis | Beschreibung: Auftrag wurde zugeschlagen | Link: https://ausschreibungsradar.com/ausschreibung/4b47d8e0-883c-4f3f-b483-9ce7e2d26a71/ | Geschätzter Wert: 221000 €
URL:https://ausschreibungsradar.com/ausschreibung/4b47d8e0-883c-4f3f-b483-9ce7e2d26a71/
END:VEVENT
END:VCALENDAR
