BEGIN:VCALENDAR
VERSION:2.0
PRODID:-//AusschreibungsRadar//Timeline//DE
CALSCALE:GREGORIAN
METHOD:PUBLISH
X-WR-CALNAME:Projekt 25.09 - Planungsleistungen für Freiflächen LP 2 bis LP 9
X-WR-TIMEZONE:Europe/Berlin
BEGIN:VEVENT
UID:31fe6921745869ba@ausschreibungsradar.com
DTSTAMP:20260424T095641Z
DTSTART;VALUE=DATE:20250512
DTEND;VALUE=DATE:20250512
SUMMARY:Ausschreibung — 25.09 - Planungsleistungen für Freiflächen LP 2 bis LP 9
DESCRIPTION:Phase: Ausschreibung | Beschreibung: Angebote werden eingeholt | Link: https://ausschreibungsradar.com/ausschreibung/4b4cefe1-7d8f-4ac3-a171-31fc04abb54e/
URL:https://ausschreibungsradar.com/ausschreibung/4b4cefe1-7d8f-4ac3-a171-31fc04abb54e/
END:VEVENT
BEGIN:VEVENT
UID:e6e56cd0fdd5188a@ausschreibungsradar.com
DTSTAMP:20260424T095641Z
DTSTART;VALUE=DATE:20251006
DTEND;VALUE=DATE:20251006
SUMMARY:Vergabeergebnis — 25.09 - Planungsleistungen für Freiflächen LP 2 bis LP 9
DESCRIPTION:Phase: Vergabeergebnis | Beschreibung: Auftrag wurde zugeschlagen | Link: https://ausschreibungsradar.com/ausschreibung/5eb1a920-fa42-444e-a8a1-068dc1cd85da/
URL:https://ausschreibungsradar.com/ausschreibung/5eb1a920-fa42-444e-a8a1-068dc1cd85da/
END:VEVENT
END:VCALENDAR
