BEGIN:VCALENDAR
VERSION:2.0
PRODID:-//AusschreibungsRadar//Timeline//DE
CALSCALE:GREGORIAN
METHOD:PUBLISH
X-WR-CALNAME:Projekt 506-BA1-10-01_Metallbauarbeiten_Feilitzsch_Generalsanierung 
X-WR-TIMEZONE:Europe/Berlin
BEGIN:VEVENT
UID:ab0f2cb2df47c362@ausschreibungsradar.com
DTSTAMP:20260426T004940Z
DTSTART;VALUE=DATE:20240321
DTEND;VALUE=DATE:20240321
SUMMARY:Angebotsfrist — 506-BA1-10-01_Metallbauarbeiten_Feilitzsch_Generalsanierung 
DESCRIPTION:Phase: Ausschreibung | Beschreibung: Angebote werden eingeholt | Link: https://ausschreibungsradar.com/ausschreibung/4c0cbe96-2a34-43de-9e95-b72048a9b942/
URL:https://ausschreibungsradar.com/ausschreibung/4c0cbe96-2a34-43de-9e95-b72048a9b942/
END:VEVENT
BEGIN:VEVENT
UID:3d569469a2f0fc47@ausschreibungsradar.com
DTSTAMP:20260426T004940Z
DTSTART;VALUE=DATE:20240221
DTEND;VALUE=DATE:20240221
SUMMARY:Ausschreibung — 506-BA1-10-01_Metallbauarbeiten_Feilitzsch_Generalsanierung 
DESCRIPTION:Phase: Ausschreibung | Beschreibung: Offizielle Ausschreibung mit Bieterfrist. | Link: https://ausschreibungsradar.com/ausschreibung/ted-106872-2024/
URL:https://ausschreibungsradar.com/ausschreibung/ted-106872-2024/
END:VEVENT
BEGIN:VEVENT
UID:7983764523f38bd9@ausschreibungsradar.com
DTSTAMP:20260426T004940Z
DTSTART;VALUE=DATE:20240611
DTEND;VALUE=DATE:20240611
SUMMARY:Vergabeergebnis — 506-BA1-10-01_Metallbauarbeiten_Feilitzsch_Generalsanierung 
DESCRIPTION:Phase: Vergabeergebnis | Beschreibung: Auftrag wurde zugeschlagen | Link: https://ausschreibungsradar.com/ausschreibung/2b9bf75d-b3f4-4f35-9b4d-2041e7cfde29/
URL:https://ausschreibungsradar.com/ausschreibung/2b9bf75d-b3f4-4f35-9b4d-2041e7cfde29/
END:VEVENT
END:VCALENDAR
