BEGIN:VCALENDAR
VERSION:2.0
PRODID:-//AusschreibungsRadar//Timeline//DE
CALSCALE:GREGORIAN
METHOD:PUBLISH
X-WR-CALNAME:Projekt Mittagsverpflegung in den städtischen Kindertagesstätten
X-WR-TIMEZONE:Europe/Berlin
BEGIN:VEVENT
UID:f4b37e0ed7b6e2d8@ausschreibungsradar.com
DTSTAMP:20260426T013515Z
DTSTART;VALUE=DATE:20260316
DTEND;VALUE=DATE:20260316
SUMMARY:Ausschreibung — Mittagsverpflegung in den städtischen Kindertagesstätten
DESCRIPTION:Phase: Ausschreibung | Beschreibung: Angebote werden eingeholt | Link: https://ausschreibungsradar.com/ausschreibung/4c1bb8e3-b4fb-46ec-a721-69ec792b20db/
URL:https://ausschreibungsradar.com/ausschreibung/4c1bb8e3-b4fb-46ec-a721-69ec792b20db/
END:VEVENT
BEGIN:VEVENT
UID:38453dc29da45260@ausschreibungsradar.com
DTSTAMP:20260426T013515Z
DTSTART;VALUE=DATE:20260316
DTEND;VALUE=DATE:20260316
SUMMARY:Ausschreibung — Mittagsverpflegung in den städtischen Kindertagesstätten
DESCRIPTION:Phase: Ausschreibung | Beschreibung: Offizielle Ausschreibung mit Bieterfrist. | Link: https://ausschreibungsradar.com/ausschreibung/11af5654-1508-4104-85f9-9b0d1194b9ec/
URL:https://ausschreibungsradar.com/ausschreibung/11af5654-1508-4104-85f9-9b0d1194b9ec/
END:VEVENT
END:VCALENDAR
