BEGIN:VCALENDAR
VERSION:2.0
PRODID:-//AusschreibungsRadar//Timeline//DE
CALSCALE:GREGORIAN
METHOD:PUBLISH
X-WR-CALNAME:Projekt Stadt Hildesheim - Planungsleistungen Kanal-, Fernwärme und 
X-WR-TIMEZONE:Europe/Berlin
BEGIN:VEVENT
UID:5179c4c1b1e63a84@ausschreibungsradar.com
DTSTAMP:20260425T152259Z
DTSTART;VALUE=DATE:20260312
DTEND;VALUE=DATE:20260312
SUMMARY:Angebotsfrist — Stadt Hildesheim - Planungsleistungen Kanal-\, Fernwärme und 
DESCRIPTION:Phase: Ausschreibung | Beschreibung: Angebote werden eingeholt | Link: https://ausschreibungsradar.com/ausschreibung/4c381606-cf14-44f3-902b-9a8e0ecfa728/
URL:https://ausschreibungsradar.com/ausschreibung/4c381606-cf14-44f3-902b-9a8e0ecfa728/
END:VEVENT
BEGIN:VEVENT
UID:8d2903e5ce62d858@ausschreibungsradar.com
DTSTAMP:20260425T152259Z
DTSTART;VALUE=DATE:20260122
DTEND;VALUE=DATE:20260122
SUMMARY:Ausschreibung — Stadt Hildesheim - Planungsleistungen Kanal-\, Fernwärme und 
DESCRIPTION:Phase: Ausschreibung | Beschreibung: Offizielle Ausschreibung mit Bieterfrist. | Link: https://ausschreibungsradar.com/ausschreibung/3a28a4b8-f3b6-4fbf-9e3d-33cc0245dec4/
URL:https://ausschreibungsradar.com/ausschreibung/3a28a4b8-f3b6-4fbf-9e3d-33cc0245dec4/
END:VEVENT
BEGIN:VEVENT
UID:ee287c579983583f@ausschreibungsradar.com
DTSTAMP:20260425T152259Z
DTSTART;VALUE=DATE:20260122
DTEND;VALUE=DATE:20260122
SUMMARY:Ausschreibung — Stadt Hildesheim - Planungsleistungen Kanal-\, Fernwärme und 
DESCRIPTION:Phase: Ausschreibung | Beschreibung: Offizielle Ausschreibung mit Bieterfrist. | Link: https://ausschreibungsradar.com/ausschreibung/64c3d251-ee2f-47ef-8a1c-100ad7d20b10/
URL:https://ausschreibungsradar.com/ausschreibung/64c3d251-ee2f-47ef-8a1c-100ad7d20b10/
END:VEVENT
BEGIN:VEVENT
UID:e94b42d712848693@ausschreibungsradar.com
DTSTAMP:20260425T152259Z
DTSTART;VALUE=DATE:20260122
DTEND;VALUE=DATE:20260122
SUMMARY:Ausschreibung — Stadt Hildesheim - Planungsleistungen Kanal-\, Fernwärme und 
DESCRIPTION:Phase: Ausschreibung | Beschreibung: Offizielle Ausschreibung mit Bieterfrist. | Link: https://ausschreibungsradar.com/ausschreibung/c7a1986f-b49c-428f-b949-47902e2d855d/
URL:https://ausschreibungsradar.com/ausschreibung/c7a1986f-b49c-428f-b949-47902e2d855d/
END:VEVENT
END:VCALENDAR
