BEGIN:VCALENDAR
VERSION:2.0
PRODID:-//AusschreibungsRadar//Timeline//DE
CALSCALE:GREGORIAN
METHOD:PUBLISH
X-WR-CALNAME:Projekt EU-weite Ausschreibung über die Lieferung eines Radladers fü
X-WR-TIMEZONE:Europe/Berlin
BEGIN:VEVENT
UID:fc32b9eeedf793f7@ausschreibungsradar.com
DTSTAMP:20260424T192302Z
DTSTART;VALUE=DATE:20260227
DTEND;VALUE=DATE:20260227
SUMMARY:Ausschreibung — EU-weite Ausschreibung über die Lieferung eines Radladers fü
DESCRIPTION:Phase: Ausschreibung | Beschreibung: Offizielle Ausschreibung mit Bieterfrist. | Link: https://ausschreibungsradar.com/ausschreibung/4cfa1822-a6a4-4e3d-ae9e-259661fe1e90/
URL:https://ausschreibungsradar.com/ausschreibung/4cfa1822-a6a4-4e3d-ae9e-259661fe1e90/
END:VEVENT
BEGIN:VEVENT
UID:f820dcee1c5f4336@ausschreibungsradar.com
DTSTAMP:20260424T192302Z
DTSTART;VALUE=DATE:20260301
DTEND;VALUE=DATE:20260301
SUMMARY:Zuschlag — EU-weite Ausschreibung über die Lieferung eines Radladers fü
DESCRIPTION:Phase: Zuschlag | Beschreibung: Vergabeergebnis — Auftrag wurde erteilt oder Verfahren beendet. | Link: https://ausschreibungsradar.com/ausschreibung/79da3d5c-dcd5-423e-8429-ec98ef33c80f/
URL:https://ausschreibungsradar.com/ausschreibung/79da3d5c-dcd5-423e-8429-ec98ef33c80f/
END:VEVENT
END:VCALENDAR
