BEGIN:VCALENDAR
VERSION:2.0
PRODID:-//AusschreibungsRadar//Timeline//DE
CALSCALE:GREGORIAN
METHOD:PUBLISH
X-WR-CALNAME:Projekt Übernahme, Transport und Verwertung von Gartenabfall aus der
X-WR-TIMEZONE:Europe/Berlin
BEGIN:VEVENT
UID:133665f29857f4a8@ausschreibungsradar.com
DTSTAMP:20260425T223506Z
DTSTART;VALUE=DATE:20260112
DTEND;VALUE=DATE:20260112
SUMMARY:Angebotsfrist — Übernahme\, Transport und Verwertung von Gartenabfall aus der
DESCRIPTION:Phase: Ausschreibung | Beschreibung: Angebote werden eingeholt | Link: https://ausschreibungsradar.com/ausschreibung/4d774887-1b4c-4f14-b7c3-bd10b2ca5836/
URL:https://ausschreibungsradar.com/ausschreibung/4d774887-1b4c-4f14-b7c3-bd10b2ca5836/
END:VEVENT
BEGIN:VEVENT
UID:86abf1ba3a13d241@ausschreibungsradar.com
DTSTAMP:20260425T223506Z
DTSTART;VALUE=DATE:20251113
DTEND;VALUE=DATE:20251113
SUMMARY:Ausschreibung — Übernahme\, Transport und Verwertung von Gartenabfall aus der
DESCRIPTION:Phase: Ausschreibung | Beschreibung: Offizielle Ausschreibung mit Bieterfrist. | Link: https://ausschreibungsradar.com/ausschreibung/33afc377-1ac9-4382-aea2-6f508b77d7c4/
URL:https://ausschreibungsradar.com/ausschreibung/33afc377-1ac9-4382-aea2-6f508b77d7c4/
END:VEVENT
BEGIN:VEVENT
UID:50d13d8fe5084316@ausschreibungsradar.com
DTSTAMP:20260425T223506Z
DTSTART;VALUE=DATE:20260316
DTEND;VALUE=DATE:20260316
SUMMARY:Vergabeergebnis — Übernahme\, Transport und Verwertung von Gartenabfall aus der
DESCRIPTION:Phase: Vergabeergebnis | Beschreibung: Auftrag wurde zugeschlagen | Link: https://ausschreibungsradar.com/ausschreibung/77d94b2e-43d5-42f6-8b9b-6402b4dea4c4/
URL:https://ausschreibungsradar.com/ausschreibung/77d94b2e-43d5-42f6-8b9b-6402b4dea4c4/
END:VEVENT
END:VCALENDAR
