BEGIN:VCALENDAR
VERSION:2.0
PRODID:-//AusschreibungsRadar//Timeline//DE
CALSCALE:GREGORIAN
METHOD:PUBLISH
X-WR-CALNAME:Projekt ctt Lebach – Ersatzneubau des Caritas Krankenhaus_Technische
X-WR-TIMEZONE:Europe/Berlin
BEGIN:VEVENT
UID:4406c17763871560@ausschreibungsradar.com
DTSTAMP:20260424T125958Z
DTSTART;VALUE=DATE:20250811
DTEND;VALUE=DATE:20250811
SUMMARY:Angebotsfrist — ctt Lebach – Ersatzneubau des Caritas Krankenhaus_Technische
DESCRIPTION:Phase: Ausschreibung | Beschreibung: Angebote werden eingeholt | Link: https://ausschreibungsradar.com/ausschreibung/17725c34-0604-4b88-90b5-9de0f603996f/
URL:https://ausschreibungsradar.com/ausschreibung/17725c34-0604-4b88-90b5-9de0f603996f/
END:VEVENT
BEGIN:VEVENT
UID:91586185280c6fdf@ausschreibungsradar.com
DTSTAMP:20260424T125958Z
DTSTART;VALUE=DATE:20260129
DTEND;VALUE=DATE:20260129
SUMMARY:Vergabeergebnis — ctt Lebach – Ersatzneubau des Caritas Krankenhaus_Technische
DESCRIPTION:Phase: Vergabeergebnis | Beschreibung: Auftrag wurde zugeschlagen | Link: https://ausschreibungsradar.com/ausschreibung/4dbb5b3e-bd60-45a8-aeed-38cf19f45e3b/ | Auftragnehmer: Iso-Basaran GmbH \n
URL:https://ausschreibungsradar.com/ausschreibung/4dbb5b3e-bd60-45a8-aeed-38cf19f45e3b/
END:VEVENT
BEGIN:VEVENT
UID:49eed3cb00117424@ausschreibungsradar.com
DTSTAMP:20260424T125958Z
DTSTART;VALUE=DATE:20260129
DTEND;VALUE=DATE:20260129
SUMMARY:Zuschlag — ctt Lebach – Ersatzneubau des Caritas Krankenhaus_Technische
DESCRIPTION:Phase: Zuschlag | Beschreibung: Vergabeergebnis — Auftrag wurde erteilt oder Verfahren beendet. | Link: https://ausschreibungsradar.com/ausschreibung/f8912f74-960e-4b1b-a48f-801553ee071c/
URL:https://ausschreibungsradar.com/ausschreibung/f8912f74-960e-4b1b-a48f-801553ee071c/
END:VEVENT
BEGIN:VEVENT
UID:e7e49cd1698bd0f6@ausschreibungsradar.com
DTSTAMP:20260424T125958Z
DTSTART;VALUE=DATE:20260129
DTEND;VALUE=DATE:20260129
SUMMARY:Zuschlag — ctt Lebach – Ersatzneubau des Caritas Krankenhaus_Technische
DESCRIPTION:Phase: Zuschlag | Beschreibung: Vergabeergebnis — Auftrag wurde erteilt oder Verfahren beendet. | Link: https://ausschreibungsradar.com/ausschreibung/3e2bb6b2-9e97-4d1a-bbc4-101cff10da7d/
URL:https://ausschreibungsradar.com/ausschreibung/3e2bb6b2-9e97-4d1a-bbc4-101cff10da7d/
END:VEVENT
BEGIN:VEVENT
UID:12dad3401b6f56cd@ausschreibungsradar.com
DTSTAMP:20260424T125958Z
DTSTART;VALUE=DATE:20260129
DTEND;VALUE=DATE:20260129
SUMMARY:Zuschlag — ctt Lebach – Ersatzneubau des Caritas Krankenhaus_Technische
DESCRIPTION:Phase: Zuschlag | Beschreibung: Vergabeergebnis — Auftrag wurde erteilt oder Verfahren beendet. | Link: https://ausschreibungsradar.com/ausschreibung/0490502c-faaa-40c3-ad62-69f95285619e/
URL:https://ausschreibungsradar.com/ausschreibung/0490502c-faaa-40c3-ad62-69f95285619e/
END:VEVENT
BEGIN:VEVENT
UID:d522893f4c951107@ausschreibungsradar.com
DTSTAMP:20260424T125958Z
DTSTART;VALUE=DATE:20260129
DTEND;VALUE=DATE:20260129
SUMMARY:Zuschlag — ctt Lebach – Ersatzneubau des Caritas Krankenhaus_Technische
DESCRIPTION:Phase: Zuschlag | Beschreibung: Vergabeergebnis — Auftrag wurde erteilt oder Verfahren beendet. | Link: https://ausschreibungsradar.com/ausschreibung/c4e3748a-50e8-4f9d-9abf-fe96fa0ccac6/
URL:https://ausschreibungsradar.com/ausschreibung/c4e3748a-50e8-4f9d-9abf-fe96fa0ccac6/
END:VEVENT
END:VCALENDAR
