BEGIN:VCALENDAR
VERSION:2.0
PRODID:-//AusschreibungsRadar//Timeline//DE
CALSCALE:GREGORIAN
METHOD:PUBLISH
X-WR-CALNAME:Projekt WC-Trennwände
X-WR-TIMEZONE:Europe/Berlin
BEGIN:VEVENT
UID:7aef461f392d174a@ausschreibungsradar.com
DTSTAMP:20260425T143457Z
DTSTART;VALUE=DATE:20260310
DTEND;VALUE=DATE:20260310
SUMMARY:Angebotsfrist — WC-Trennwände
DESCRIPTION:Phase: Ausschreibung | Beschreibung: Angebote werden eingeholt | Link: https://ausschreibungsradar.com/ausschreibung/4e7364ed-e5a1-4afe-95c9-9ce878e1f9a6/
URL:https://ausschreibungsradar.com/ausschreibung/4e7364ed-e5a1-4afe-95c9-9ce878e1f9a6/
END:VEVENT
BEGIN:VEVENT
UID:1999fac423907b07@ausschreibungsradar.com
DTSTAMP:20260425T143457Z
DTSTART;VALUE=DATE:20260204
DTEND;VALUE=DATE:20260204
SUMMARY:Ausschreibung — WC-Trennwände
DESCRIPTION:Phase: Ausschreibung | Beschreibung: Offizielle Ausschreibung mit Bieterfrist. | Link: https://ausschreibungsradar.com/ausschreibung/24949546/
URL:https://ausschreibungsradar.com/ausschreibung/24949546/
END:VEVENT
END:VCALENDAR
