BEGIN:VCALENDAR
VERSION:2.0
PRODID:-//AusschreibungsRadar//Timeline//DE
CALSCALE:GREGORIAN
METHOD:PUBLISH
X-WR-CALNAME:Projekt EU-weite Ausschreibung von Generalplanungsleistungen für ein
X-WR-TIMEZONE:Europe/Berlin
BEGIN:VEVENT
UID:d4e43df080ff20ed@ausschreibungsradar.com
DTSTAMP:20260424T031446Z
DTSTART;VALUE=DATE:20240125
DTEND;VALUE=DATE:20240125
SUMMARY:Ausschreibung — EU-weite Ausschreibung von Generalplanungsleistungen für ein
DESCRIPTION:Phase: Ausschreibung | Beschreibung: Angebote werden eingeholt | Link: https://ausschreibungsradar.com/ausschreibung/4f8ba120-0cc1-4e64-a7d5-b1b0cfab6c13/
URL:https://ausschreibungsradar.com/ausschreibung/4f8ba120-0cc1-4e64-a7d5-b1b0cfab6c13/
END:VEVENT
BEGIN:VEVENT
UID:c192af5a1c535656@ausschreibungsradar.com
DTSTAMP:20260424T031446Z
DTSTART;VALUE=DATE:20240829
DTEND;VALUE=DATE:20240829
SUMMARY:Vergabeergebnis — EU-weite Ausschreibung von Generalplanungsleistungen für ein
DESCRIPTION:Phase: Vergabeergebnis | Beschreibung: Auftrag wurde zugeschlagen | Link: https://ausschreibungsradar.com/ausschreibung/4e0fc961-d558-4e4a-bcfd-43f310a96000/ | Auftragnehmer: Fleper Architekten\n
URL:https://ausschreibungsradar.com/ausschreibung/4e0fc961-d558-4e4a-bcfd-43f310a96000/
END:VEVENT
END:VCALENDAR
