BEGIN:VCALENDAR
VERSION:2.0
PRODID:-//AusschreibungsRadar//Timeline//DE
CALSCALE:GREGORIAN
METHOD:PUBLISH
X-WR-CALNAME:Projekt Objektplanung Verkehrsanlagen Rückwärtige Erschließung
X-WR-TIMEZONE:Europe/Berlin
BEGIN:VEVENT
UID:4d640f798a8ca75a@ausschreibungsradar.com
DTSTAMP:20260425T234022Z
DTSTART;VALUE=DATE:20260226
DTEND;VALUE=DATE:20260226
SUMMARY:Angebotsfrist — Objektplanung Verkehrsanlagen Rückwärtige Erschließung
DESCRIPTION:Phase: Ausschreibung | Beschreibung: Angebote werden eingeholt | Link: https://ausschreibungsradar.com/ausschreibung/4f990630-2a5f-4d8f-bd24-caef1d3b59e1/
URL:https://ausschreibungsradar.com/ausschreibung/4f990630-2a5f-4d8f-bd24-caef1d3b59e1/
END:VEVENT
BEGIN:VEVENT
UID:12f38808ed54c660@ausschreibungsradar.com
DTSTAMP:20260425T234022Z
DTSTART;VALUE=DATE:20260414
DTEND;VALUE=DATE:20260414
SUMMARY:Vergabeergebnis — Objektplanung Verkehrsanlagen Rückwärtige Erschließung
DESCRIPTION:Phase: Vergabeergebnis | Beschreibung: Auftrag wurde zugeschlagen | Link: https://ausschreibungsradar.com/ausschreibung/76379645-4b11-4d63-acbf-a41b3e63247f/
URL:https://ausschreibungsradar.com/ausschreibung/76379645-4b11-4d63-acbf-a41b3e63247f/
END:VEVENT
END:VCALENDAR
