BEGIN:VCALENDAR
VERSION:2.0
PRODID:-//AusschreibungsRadar//Timeline//DE
CALSCALE:GREGORIAN
METHOD:PUBLISH
X-WR-CALNAME:Projekt Betonsohle
X-WR-TIMEZONE:Europe/Berlin
BEGIN:VEVENT
UID:a8919abd149c81fa@ausschreibungsradar.com
DTSTAMP:20260425T162537Z
DTSTART;VALUE=DATE:20250908
DTEND;VALUE=DATE:20250908
SUMMARY:Angebotsfrist — Betonsohle
DESCRIPTION:Phase: Ausschreibung | Beschreibung: Angebote werden eingeholt | Link: https://ausschreibungsradar.com/ausschreibung/eaa219d1-7640-44c0-892b-662619df7e59/
URL:https://ausschreibungsradar.com/ausschreibung/eaa219d1-7640-44c0-892b-662619df7e59/
END:VEVENT
BEGIN:VEVENT
UID:920ec932a7cae17f@ausschreibungsradar.com
DTSTAMP:20260425T162537Z
DTSTART;VALUE=DATE:20260211
DTEND;VALUE=DATE:20260211
SUMMARY:Vergabeergebnis — Betonsohle
DESCRIPTION:Phase: Vergabeergebnis | Beschreibung: Bedarf hat sich geändert | Link: https://ausschreibungsradar.com/ausschreibung/4fb07f45-c261-4ba9-8dfb-daaab3391902/
URL:https://ausschreibungsradar.com/ausschreibung/4fb07f45-c261-4ba9-8dfb-daaab3391902/
END:VEVENT
END:VCALENDAR
