BEGIN:VCALENDAR
VERSION:2.0
PRODID:-//AusschreibungsRadar//Timeline//DE
CALSCALE:GREGORIAN
METHOD:PUBLISH
X-WR-CALNAME:Projekt Ersatzbeschaffung V5100-SVC2 Storage-Einheit
X-WR-TIMEZONE:Europe/Berlin
BEGIN:VEVENT
UID:fc5fcde7f8e99349@ausschreibungsradar.com
DTSTAMP:20260425T015453Z
DTSTART;VALUE=DATE:20250822
DTEND;VALUE=DATE:20250822
SUMMARY:Ausschreibung — Ersatzbeschaffung V5100-SVC2 Storage-Einheit
DESCRIPTION:Phase: Ausschreibung | Beschreibung: Angebote werden eingeholt | Link: https://ausschreibungsradar.com/ausschreibung/4fea1aa6-7a5b-4164-a48c-4e00022913d4/
URL:https://ausschreibungsradar.com/ausschreibung/4fea1aa6-7a5b-4164-a48c-4e00022913d4/
END:VEVENT
BEGIN:VEVENT
UID:7ee9cd9f77f31397@ausschreibungsradar.com
DTSTAMP:20260425T015453Z
DTSTART;VALUE=DATE:20251010
DTEND;VALUE=DATE:20251010
SUMMARY:Vergabeergebnis — Ersatzbeschaffung V5100-SVC2 Storage-Einheit
DESCRIPTION:Phase: Vergabeergebnis | Beschreibung: Auftrag wurde zugeschlagen | Link: https://ausschreibungsradar.com/ausschreibung/fd2af2d4-6660-46d9-aaec-b12e490e985f/
URL:https://ausschreibungsradar.com/ausschreibung/fd2af2d4-6660-46d9-aaec-b12e490e985f/
END:VEVENT
END:VCALENDAR
