BEGIN:VCALENDAR
VERSION:2.0
PRODID:-//AusschreibungsRadar//Timeline//DE
CALSCALE:GREGORIAN
METHOD:PUBLISH
X-WR-CALNAME:Projekt Teilerneuerung Rüssdorftunnel mit Gleisverschwenkung in 3 Ve
X-WR-TIMEZONE:Europe/Berlin
BEGIN:VEVENT
UID:7abcc11856cc26a1@ausschreibungsradar.com
DTSTAMP:20260423T231515Z
DTSTART;VALUE=DATE:20240209
DTEND;VALUE=DATE:20240209
SUMMARY:Vergabeergebnis — Teilerneuerung Rüssdorftunnel mit Gleisverschwenkung in 3 Ve
DESCRIPTION:Phase: Vergabeergebnis | Beschreibung: Auftrag wurde zugeschlagen | Link: https://ausschreibungsradar.com/ausschreibung/5106d326-3a43-407e-af3b-e11fc056d097/ | Geschätzter Wert: 5153000 €
URL:https://ausschreibungsradar.com/ausschreibung/5106d326-3a43-407e-af3b-e11fc056d097/
END:VEVENT
BEGIN:VEVENT
UID:0c44bf27ca5872ea@ausschreibungsradar.com
DTSTAMP:20260423T231515Z
DTSTART;VALUE=DATE:20251117
DTEND;VALUE=DATE:20251117
SUMMARY:Vertragsmodifikation — Teilerneuerung Rüssdorftunnel mit Gleisverschwenkung in 3 Ve
DESCRIPTION:Phase: Vertragsmodifikation | Beschreibung: Änderung am bestehenden Vertrag nach Zuschlag. | Link: https://ausschreibungsradar.com/ausschreibung/9feb9b23-66a1-40c2-b2e9-f3aa20f0ee43/
URL:https://ausschreibungsradar.com/ausschreibung/9feb9b23-66a1-40c2-b2e9-f3aa20f0ee43/
END:VEVENT
BEGIN:VEVENT
UID:aa412ab3457f0a7e@ausschreibungsradar.com
DTSTAMP:20260423T231515Z
DTSTART;VALUE=DATE:20260108
DTEND;VALUE=DATE:20260108
SUMMARY:Vertragsmodifikation — Teilerneuerung Rüssdorftunnel mit Gleisverschwenkung in 3 Ve
DESCRIPTION:Phase: Vertragsmodifikation | Beschreibung: Änderung am bestehenden Vertrag nach Zuschlag. | Link: https://ausschreibungsradar.com/ausschreibung/0139a543-7eea-48e7-a21f-88abb16a74b8/
URL:https://ausschreibungsradar.com/ausschreibung/0139a543-7eea-48e7-a21f-88abb16a74b8/
END:VEVENT
BEGIN:VEVENT
UID:fb8fdeb365259e89@ausschreibungsradar.com
DTSTAMP:20260423T231515Z
DTSTART;VALUE=DATE:20260109
DTEND;VALUE=DATE:20260109
SUMMARY:Vertragsmodifikation — Teilerneuerung Rüssdorftunnel mit Gleisverschwenkung in 3 Ve
DESCRIPTION:Phase: Vertragsmodifikation | Beschreibung: Änderung am bestehenden Vertrag nach Zuschlag. | Link: https://ausschreibungsradar.com/ausschreibung/aab8e410-9441-42f1-b613-cd4096a04e69/
URL:https://ausschreibungsradar.com/ausschreibung/aab8e410-9441-42f1-b613-cd4096a04e69/
END:VEVENT
BEGIN:VEVENT
UID:07341afc521091c3@ausschreibungsradar.com
DTSTAMP:20260423T231515Z
DTSTART;VALUE=DATE:20260204
DTEND;VALUE=DATE:20260204
SUMMARY:Vertragsmodifikation — Teilerneuerung Rüssdorftunnel mit Gleisverschwenkung in 3 Ve
DESCRIPTION:Phase: Vertragsmodifikation | Beschreibung: Änderung am bestehenden Vertrag nach Zuschlag. | Link: https://ausschreibungsradar.com/ausschreibung/9851135c-541d-4f5b-9575-fb47557ed7fd/
URL:https://ausschreibungsradar.com/ausschreibung/9851135c-541d-4f5b-9575-fb47557ed7fd/
END:VEVENT
BEGIN:VEVENT
UID:9cc8bcc57e1b22bb@ausschreibungsradar.com
DTSTAMP:20260423T231515Z
DTSTART;VALUE=DATE:20260313
DTEND;VALUE=DATE:20260313
SUMMARY:Vertragsänderung — Teilerneuerung Rüssdorftunnel mit Gleisverschwenkung in 3 Ve
DESCRIPTION:Phase: Vertragsänderung | Beschreibung: Zusätzliche Lieferungen/Leistungen beauftragt | Link: https://ausschreibungsradar.com/ausschreibung/e0b5a65e-8cf3-426d-916e-acd91f3ef575/
URL:https://ausschreibungsradar.com/ausschreibung/e0b5a65e-8cf3-426d-916e-acd91f3ef575/
END:VEVENT
END:VCALENDAR
