BEGIN:VCALENDAR
VERSION:2.0
PRODID:-//AusschreibungsRadar//Timeline//DE
CALSCALE:GREGORIAN
METHOD:PUBLISH
X-WR-CALNAME:Projekt Grundschule Lauenförde - Technische Ausrüstung AG 1-3,7+8 (H
X-WR-TIMEZONE:Europe/Berlin
BEGIN:VEVENT
UID:3ab9899cc0ff63fa@ausschreibungsradar.com
DTSTAMP:20260425T150404Z
DTSTART;VALUE=DATE:20250711
DTEND;VALUE=DATE:20250711
SUMMARY:Ausschreibung — Grundschule Lauenförde - Technische Ausrüstung AG 1-3\,7+8 (H
DESCRIPTION:Phase: Ausschreibung | Beschreibung: Angebote werden eingeholt | Link: https://ausschreibungsradar.com/ausschreibung/51fa4860-4fb4-4050-b67c-455fdf0100fa/ | Geschätzter Wert: 227754 €
URL:https://ausschreibungsradar.com/ausschreibung/51fa4860-4fb4-4050-b67c-455fdf0100fa/
END:VEVENT
BEGIN:VEVENT
UID:011767570d0abacc@ausschreibungsradar.com
DTSTAMP:20260425T150404Z
DTSTART;VALUE=DATE:20250711
DTEND;VALUE=DATE:20250711
SUMMARY:Ausschreibung — Grundschule Lauenförde - Technische Ausrüstung AG 1-3\,7+8 (H
DESCRIPTION:Phase: Ausschreibung | Beschreibung: Offizielle Ausschreibung mit Bieterfrist. | Link: https://ausschreibungsradar.com/ausschreibung/89385565-068a-466b-a285-12a7dd850b3a/
URL:https://ausschreibungsradar.com/ausschreibung/89385565-068a-466b-a285-12a7dd850b3a/
END:VEVENT
BEGIN:VEVENT
UID:4f986c9806453881@ausschreibungsradar.com
DTSTAMP:20260425T150404Z
DTSTART;VALUE=DATE:20260302
DTEND;VALUE=DATE:20260302
SUMMARY:Vergabeergebnis — Grundschule Lauenförde - Technische Ausrüstung AG 1-3\,7+8 (H
DESCRIPTION:Phase: Vergabeergebnis | Beschreibung: Auftrag wurde zugeschlagen | Link: https://ausschreibungsradar.com/ausschreibung/e9816213-4131-4ed0-8d86-614965ff3185/ | Geschätzter Wert: 227754 €
URL:https://ausschreibungsradar.com/ausschreibung/e9816213-4131-4ed0-8d86-614965ff3185/
END:VEVENT
END:VCALENDAR
