BEGIN:VCALENDAR
VERSION:2.0
PRODID:-//AusschreibungsRadar//Timeline//DE
CALSCALE:GREGORIAN
METHOD:PUBLISH
X-WR-CALNAME:Projekt EU weite Ausschreibung Betten und Liegen für das Ortenau Kli
X-WR-TIMEZONE:Europe/Berlin
BEGIN:VEVENT
UID:aaed52250a1b62ee@ausschreibungsradar.com
DTSTAMP:20260426T042908Z
DTSTART;VALUE=DATE:20260213
DTEND;VALUE=DATE:20260213
SUMMARY:Angebotsfrist — EU weite Ausschreibung Betten und Liegen für das Ortenau Kli
DESCRIPTION:Phase: Ausschreibung | Beschreibung: Angebote werden eingeholt | Link: https://ausschreibungsradar.com/ausschreibung/db6a23a1-dd00-4fa8-89ae-94e50834a270/
URL:https://ausschreibungsradar.com/ausschreibung/db6a23a1-dd00-4fa8-89ae-94e50834a270/
END:VEVENT
BEGIN:VEVENT
UID:0c818252b696fb58@ausschreibungsradar.com
DTSTAMP:20260426T042908Z
DTSTART;VALUE=DATE:20251230
DTEND;VALUE=DATE:20251230
SUMMARY:Vergabeergebnis — EU weite Ausschreibung Betten und Liegen für das Ortenau Kli
DESCRIPTION:Phase: Vergabeergebnis | Beschreibung: Bedarf hat sich geändert | Link: https://ausschreibungsradar.com/ausschreibung/52d838d5-5ad7-461b-a10c-ca0136ec0d32/
URL:https://ausschreibungsradar.com/ausschreibung/52d838d5-5ad7-461b-a10c-ca0136ec0d32/
END:VEVENT
END:VCALENDAR
