BEGIN:VCALENDAR
VERSION:2.0
PRODID:-//AusschreibungsRadar//Timeline//DE
CALSCALE:GREGORIAN
METHOD:PUBLISH
X-WR-CALNAME:Projekt Modernisierung der Laufbahn im Sportforum der Stadt Gommern,
X-WR-TIMEZONE:Europe/Berlin
BEGIN:VEVENT
UID:103a29c9849c7bfd@ausschreibungsradar.com
DTSTAMP:20260425T162533Z
DTSTART;VALUE=DATE:20240125
DTEND;VALUE=DATE:20240125
SUMMARY:Angebotsfrist — Modernisierung der Laufbahn im Sportforum der Stadt Gommern\,
DESCRIPTION:Phase: Ausschreibung | Beschreibung: Angebote werden eingeholt | Link: https://ausschreibungsradar.com/ausschreibung/5346a62f-689a-4628-ae1b-03fd7e7d27cf/
URL:https://ausschreibungsradar.com/ausschreibung/5346a62f-689a-4628-ae1b-03fd7e7d27cf/
END:VEVENT
END:VCALENDAR
