BEGIN:VCALENDAR
VERSION:2.0
PRODID:-//AusschreibungsRadar//Timeline//DE
CALSCALE:GREGORIAN
METHOD:PUBLISH
X-WR-CALNAME:Projekt Beschaffung von mobilen Endgeräten für die Schulen des Landk
X-WR-TIMEZONE:Europe/Berlin
BEGIN:VEVENT
UID:2b69d3aef3062b52@ausschreibungsradar.com
DTSTAMP:20260424T091320Z
DTSTART;VALUE=DATE:20251023
DTEND;VALUE=DATE:20251023
SUMMARY:Angebotsfrist — Beschaffung von mobilen Endgeräten für die Schulen des Landk
DESCRIPTION:Phase: Ausschreibung | Beschreibung: Angebote werden eingeholt | Link: https://ausschreibungsradar.com/ausschreibung/53d53a9c-05cd-457d-8d94-1e8be4354bc7/
URL:https://ausschreibungsradar.com/ausschreibung/53d53a9c-05cd-457d-8d94-1e8be4354bc7/
END:VEVENT
BEGIN:VEVENT
UID:a048b8ea4a2e52da@ausschreibungsradar.com
DTSTAMP:20260424T091320Z
DTSTART;VALUE=DATE:20251211
DTEND;VALUE=DATE:20251211
SUMMARY:Vergabeergebnis — Beschaffung von mobilen Endgeräten für die Schulen des Landk
DESCRIPTION:Phase: Vergabeergebnis | Beschreibung: Auftrag wurde zugeschlagen | Link: https://ausschreibungsradar.com/ausschreibung/a40ebb34-3b9e-4872-9b50-2625dcefb0d4/
URL:https://ausschreibungsradar.com/ausschreibung/a40ebb34-3b9e-4872-9b50-2625dcefb0d4/
END:VEVENT
END:VCALENDAR
