BEGIN:VCALENDAR
VERSION:2.0
PRODID:-//AusschreibungsRadar//Timeline//DE
CALSCALE:GREGORIAN
METHOD:PUBLISH
X-WR-CALNAME:Projekt Wupperplatz Ost
X-WR-TIMEZONE:Europe/Berlin
BEGIN:VEVENT
UID:8ed7f49b508e7a50@ausschreibungsradar.com
DTSTAMP:20260426T021032Z
DTSTART;VALUE=DATE:20260108
DTEND;VALUE=DATE:20260108
SUMMARY:Angebotsfrist — Wupperplatz Ost
DESCRIPTION:Phase: Ausschreibung | Beschreibung: Angebote werden eingeholt | Link: https://ausschreibungsradar.com/ausschreibung/8c5b16b5-81db-42bb-9ba9-9e4cfeb163f6/
URL:https://ausschreibungsradar.com/ausschreibung/8c5b16b5-81db-42bb-9ba9-9e4cfeb163f6/
END:VEVENT
BEGIN:VEVENT
UID:3c21ed10eeb281f2@ausschreibungsradar.com
DTSTAMP:20260426T021032Z
DTSTART;VALUE=DATE:20260324
DTEND;VALUE=DATE:20260324
SUMMARY:Vergabeergebnis — Wupperplatz Ost
DESCRIPTION:Phase: Vergabeergebnis | Beschreibung: Auftrag wurde zugeschlagen | Link: https://ausschreibungsradar.com/ausschreibung/53fd2187-79d4-4dbb-a6eb-e11e9b26ffad/ | Auftragnehmer: Jakob Leonhards Söhne Gmb
URL:https://ausschreibungsradar.com/ausschreibung/53fd2187-79d4-4dbb-a6eb-e11e9b26ffad/
END:VEVENT
END:VCALENDAR
