BEGIN:VCALENDAR
VERSION:2.0
PRODID:-//AusschreibungsRadar//Timeline//DE
CALSCALE:GREGORIAN
METHOD:PUBLISH
X-WR-CALNAME:Projekt Umbau Ausbildungszentrum
Los 1: Planung für Grundleistungen 
X-WR-TIMEZONE:Europe/Berlin
BEGIN:VEVENT
UID:5ab59f956ed3018e@ausschreibungsradar.com
DTSTAMP:20260425T234025Z
DTSTART;VALUE=DATE:20240323
DTEND;VALUE=DATE:20240323
SUMMARY:Ausschreibung — Umbau Ausbildungszentrum\nLos 1: Planung für Grundleistungen 
DESCRIPTION:Phase: Ausschreibung | Beschreibung: Angebote werden eingeholt | Link: https://ausschreibungsradar.com/ausschreibung/543d71b3-4dd1-4e07-8312-c2aea09009e2/
URL:https://ausschreibungsradar.com/ausschreibung/543d71b3-4dd1-4e07-8312-c2aea09009e2/
END:VEVENT
BEGIN:VEVENT
UID:ffa9a2da360453b6@ausschreibungsradar.com
DTSTAMP:20260425T234025Z
DTSTART;VALUE=DATE:20240323
DTEND;VALUE=DATE:20240323
SUMMARY:Ausschreibung — Umbau Ausbildungszentrum\nLos 1: Planung für Grundleistungen 
DESCRIPTION:Phase: Ausschreibung | Beschreibung: Offizielle Ausschreibung mit Bieterfrist. | Link: https://ausschreibungsradar.com/ausschreibung/ab2991d6-3679-4f48-91bb-d684a89969ba/
URL:https://ausschreibungsradar.com/ausschreibung/ab2991d6-3679-4f48-91bb-d684a89969ba/
END:VEVENT
BEGIN:VEVENT
UID:97410a85f83c780f@ausschreibungsradar.com
DTSTAMP:20260425T234025Z
DTSTART;VALUE=DATE:20240323
DTEND;VALUE=DATE:20240323
SUMMARY:Ausschreibung — Umbau Ausbildungszentrum\nLos 1: Planung für Grundleistungen 
DESCRIPTION:Phase: Ausschreibung | Beschreibung: Offizielle Ausschreibung mit Bieterfrist. | Link: https://ausschreibungsradar.com/ausschreibung/41cd7e1e-17f6-4e89-b756-ed953de167c5/
URL:https://ausschreibungsradar.com/ausschreibung/41cd7e1e-17f6-4e89-b756-ed953de167c5/
END:VEVENT
BEGIN:VEVENT
UID:e02b76b3aa53edcd@ausschreibungsradar.com
DTSTAMP:20260425T234025Z
DTSTART;VALUE=DATE:20240323
DTEND;VALUE=DATE:20240323
SUMMARY:Ausschreibung — Umbau Ausbildungszentrum\nLos 1: Planung für Grundleistungen 
DESCRIPTION:Phase: Ausschreibung | Beschreibung: Offizielle Ausschreibung mit Bieterfrist. | Link: https://ausschreibungsradar.com/ausschreibung/e06b9a20-37b2-471e-ba1a-7bb74a936433/
URL:https://ausschreibungsradar.com/ausschreibung/e06b9a20-37b2-471e-ba1a-7bb74a936433/
END:VEVENT
BEGIN:VEVENT
UID:f03c3973b84828a9@ausschreibungsradar.com
DTSTAMP:20260425T234025Z
DTSTART;VALUE=DATE:20240323
DTEND;VALUE=DATE:20240323
SUMMARY:Ausschreibung — Umbau Ausbildungszentrum\nLos 1: Planung für Grundleistungen 
DESCRIPTION:Phase: Ausschreibung | Beschreibung: Offizielle Ausschreibung mit Bieterfrist. | Link: https://ausschreibungsradar.com/ausschreibung/a9e84b36-ec4b-437f-b770-1eae1d6234cf/
URL:https://ausschreibungsradar.com/ausschreibung/a9e84b36-ec4b-437f-b770-1eae1d6234cf/
END:VEVENT
BEGIN:VEVENT
UID:6d309cacce90406e@ausschreibungsradar.com
DTSTAMP:20260425T234025Z
DTSTART;VALUE=DATE:20240918
DTEND;VALUE=DATE:20240918
SUMMARY:Vergabeergebnis — Umbau Ausbildungszentrum\nLos 1: Planung für Grundleistungen 
DESCRIPTION:Phase: Vergabeergebnis | Beschreibung: Auftrag wurde zugeschlagen | Link: https://ausschreibungsradar.com/ausschreibung/364b314e-d3ed-483c-b9c9-d7db2c3859e1/
URL:https://ausschreibungsradar.com/ausschreibung/364b314e-d3ed-483c-b9c9-d7db2c3859e1/
END:VEVENT
END:VCALENDAR
