BEGIN:VCALENDAR
VERSION:2.0
PRODID:-//AusschreibungsRadar//Timeline//DE
CALSCALE:GREGORIAN
METHOD:PUBLISH
X-WR-CALNAME:Projekt Rahmenvertrag Unterhaltsreinigung in Kiel und Kronshagen-PB 
X-WR-TIMEZONE:Europe/Berlin
BEGIN:VEVENT
UID:85585d2eb4dcda43@ausschreibungsradar.com
DTSTAMP:20260426T021740Z
DTSTART;VALUE=DATE:20250722
DTEND;VALUE=DATE:20250722
SUMMARY:Ausschreibung — Rahmenvertrag Unterhaltsreinigung in Kiel und Kronshagen-PB 
DESCRIPTION:Phase: Ausschreibung | Beschreibung: Angebote werden eingeholt | Link: https://ausschreibungsradar.com/ausschreibung/55e8fccf-fdd1-4bfb-bbd6-9e7012af8e52/
URL:https://ausschreibungsradar.com/ausschreibung/55e8fccf-fdd1-4bfb-bbd6-9e7012af8e52/
END:VEVENT
BEGIN:VEVENT
UID:28c6ef5fa34d40bf@ausschreibungsradar.com
DTSTAMP:20260426T021740Z
DTSTART;VALUE=DATE:20260326
DTEND;VALUE=DATE:20260326
SUMMARY:Vergabeergebnis — Rahmenvertrag Unterhaltsreinigung in Kiel und Kronshagen-PB 
DESCRIPTION:Phase: Vergabeergebnis | Beschreibung: Auftrag wurde zugeschlagen | Link: https://ausschreibungsradar.com/ausschreibung/8abdc3b2-e2ac-453e-879c-887c37aee539/
URL:https://ausschreibungsradar.com/ausschreibung/8abdc3b2-e2ac-453e-879c-887c37aee539/
END:VEVENT
END:VCALENDAR
