BEGIN:VCALENDAR
VERSION:2.0
PRODID:-//AusschreibungsRadar//Timeline//DE
CALSCALE:GREGORIAN
METHOD:PUBLISH
X-WR-CALNAME:Projekt WIDI Fremdpartner 2025 - 2028 RB West, SM Bad Belzig, Los 3
X-WR-TIMEZONE:Europe/Berlin
BEGIN:VEVENT
UID:0ace65ba2ebdc5e6@ausschreibungsradar.com
DTSTAMP:20260425T180847Z
DTSTART;VALUE=DATE:20250819
DTEND;VALUE=DATE:20250819
SUMMARY:Angebotsfrist — WIDI Fremdpartner 2025 - 2028 RB West\, SM Bad Belzig\, Los 3
DESCRIPTION:Phase: Ausschreibung | Beschreibung: Angebote werden eingeholt | Link: https://ausschreibungsradar.com/ausschreibung/b7d8374e-8363-4ebe-9584-435c2ea12207/
URL:https://ausschreibungsradar.com/ausschreibung/b7d8374e-8363-4ebe-9584-435c2ea12207/
END:VEVENT
BEGIN:VEVENT
UID:9fa1ef1dcf681b7e@ausschreibungsradar.com
DTSTAMP:20260425T180847Z
DTSTART;VALUE=DATE:20251117
DTEND;VALUE=DATE:20251117
SUMMARY:Vergabeergebnis — WIDI Fremdpartner 2025 - 2028 RB West\, SM Bad Belzig\, Los 3
DESCRIPTION:Phase: Vergabeergebnis | Beschreibung: Auftrag wurde zugeschlagen | Link: https://ausschreibungsradar.com/ausschreibung/55f344e6-82bb-4127-abe7-1cccd8a16056/
URL:https://ausschreibungsradar.com/ausschreibung/55f344e6-82bb-4127-abe7-1cccd8a16056/
END:VEVENT
BEGIN:VEVENT
UID:e842fa41e3247538@ausschreibungsradar.com
DTSTAMP:20260425T180847Z
DTSTART;VALUE=DATE:20251202
DTEND;VALUE=DATE:20251202
SUMMARY:Zuschlag — WIDI Fremdpartner 2025 - 2028 RB West\, SM Bad Belzig\, Los 3
DESCRIPTION:Phase: Zuschlag | Beschreibung: Vergabeergebnis — Auftrag wurde erteilt oder Verfahren beendet. | Link: https://ausschreibungsradar.com/ausschreibung/941ed32b-6524-4b5c-ad85-6a81bb3b8a51/
URL:https://ausschreibungsradar.com/ausschreibung/941ed32b-6524-4b5c-ad85-6a81bb3b8a51/
END:VEVENT
END:VCALENDAR
