BEGIN:VCALENDAR
VERSION:2.0
PRODID:-//AusschreibungsRadar//Timeline//DE
CALSCALE:GREGORIAN
METHOD:PUBLISH
X-WR-CALNAME:Projekt Neubau Barnesporthalle Wunstorf - Fassadenarbeiten
X-WR-TIMEZONE:Europe/Berlin
BEGIN:VEVENT
UID:e3b104c65e8f6c52@ausschreibungsradar.com
DTSTAMP:20260424T043117Z
DTSTART;VALUE=DATE:20241001
DTEND;VALUE=DATE:20241001
SUMMARY:Angebotsfrist — Neubau Barnesporthalle Wunstorf - Fassadenarbeiten
DESCRIPTION:Phase: Ausschreibung | Beschreibung: Angebote werden eingeholt | Link: https://ausschreibungsradar.com/ausschreibung/27dbedfc-ae01-477b-b158-64f590a56c5e/
URL:https://ausschreibungsradar.com/ausschreibung/27dbedfc-ae01-477b-b158-64f590a56c5e/
END:VEVENT
BEGIN:VEVENT
UID:d515496abb3460c2@ausschreibungsradar.com
DTSTAMP:20260424T043117Z
DTSTART;VALUE=DATE:20241111
DTEND;VALUE=DATE:20241111
SUMMARY:Zuschlag — Neubau Barnesporthalle Wunstorf - Fassadenarbeiten
DESCRIPTION:Phase: Zuschlag | Beschreibung: Vergabeergebnis — Auftrag wurde erteilt oder Verfahren beendet. | Link: https://ausschreibungsradar.com/ausschreibung/c19a36f5-74f7-4361-8f93-93f77b336b9b/
URL:https://ausschreibungsradar.com/ausschreibung/c19a36f5-74f7-4361-8f93-93f77b336b9b/
END:VEVENT
BEGIN:VEVENT
UID:0f8a65c007bb3832@ausschreibungsradar.com
DTSTAMP:20260424T043117Z
DTSTART;VALUE=DATE:20241111
DTEND;VALUE=DATE:20241111
SUMMARY:Zuschlag — Neubau Barnesporthalle Wunstorf - Fassadenarbeiten
DESCRIPTION:Phase: Zuschlag | Beschreibung: Vergabeergebnis — Auftrag wurde erteilt oder Verfahren beendet. | Link: https://ausschreibungsradar.com/ausschreibung/bede47c9-fa41-4351-906d-406f4264c577/
URL:https://ausschreibungsradar.com/ausschreibung/bede47c9-fa41-4351-906d-406f4264c577/
END:VEVENT
BEGIN:VEVENT
UID:62f71583bf60ca55@ausschreibungsradar.com
DTSTAMP:20260424T043117Z
DTSTART;VALUE=DATE:20241127
DTEND;VALUE=DATE:20241127
SUMMARY:Zuschlag — Neubau Barnesporthalle Wunstorf - Fassadenarbeiten
DESCRIPTION:Phase: Zuschlag | Beschreibung: Vergabeergebnis — Auftrag wurde erteilt oder Verfahren beendet. | Link: https://ausschreibungsradar.com/ausschreibung/95dc0b49-eb38-4962-bc31-8d24adeadb11/
URL:https://ausschreibungsradar.com/ausschreibung/95dc0b49-eb38-4962-bc31-8d24adeadb11/
END:VEVENT
BEGIN:VEVENT
UID:26a0b27888ccebbe@ausschreibungsradar.com
DTSTAMP:20260424T043117Z
DTSTART;VALUE=DATE:20241202
DTEND;VALUE=DATE:20241202
SUMMARY:Vergabeergebnis — Neubau Barnesporthalle Wunstorf - Fassadenarbeiten
DESCRIPTION:Phase: Vergabeergebnis | Beschreibung: Auftrag wurde zugeschlagen | Link: https://ausschreibungsradar.com/ausschreibung/55fcd14a-1dd0-4e00-bb6e-6409caf74491/ | Geschätzter Wert: 476925 €
URL:https://ausschreibungsradar.com/ausschreibung/55fcd14a-1dd0-4e00-bb6e-6409caf74491/
END:VEVENT
BEGIN:VEVENT
UID:56dcc257f9728b5f@ausschreibungsradar.com
DTSTAMP:20260424T043117Z
DTSTART;VALUE=DATE:20241210
DTEND;VALUE=DATE:20241210
SUMMARY:Zuschlag — Neubau Barnesporthalle Wunstorf - Fassadenarbeiten
DESCRIPTION:Phase: Zuschlag | Beschreibung: Vergabeergebnis — Auftrag wurde erteilt oder Verfahren beendet. | Link: https://ausschreibungsradar.com/ausschreibung/e81a2753-6465-4900-ac5f-e41c10ccf801/
URL:https://ausschreibungsradar.com/ausschreibung/e81a2753-6465-4900-ac5f-e41c10ccf801/
END:VEVENT
END:VCALENDAR
