BEGIN:VCALENDAR
VERSION:2.0
PRODID:-//AusschreibungsRadar//Timeline//DE
CALSCALE:GREGORIAN
METHOD:PUBLISH
X-WR-CALNAME:Projekt Jüdische Akademie Frankfurt - Raumausstattungsarbeiten II
X-WR-TIMEZONE:Europe/Berlin
BEGIN:VEVENT
UID:8370f8b2927b33f2@ausschreibungsradar.com
DTSTAMP:20260424T130007Z
DTSTART;VALUE=DATE:20250718
DTEND;VALUE=DATE:20250718
SUMMARY:Ausschreibung — Jüdische Akademie Frankfurt - Raumausstattungsarbeiten II
DESCRIPTION:Phase: Ausschreibung | Beschreibung: Offizielle Ausschreibung mit Bieterfrist. | Link: https://ausschreibungsradar.com/ausschreibung/d546cb2c-9c68-478f-8bb8-7940c3dc7331/
URL:https://ausschreibungsradar.com/ausschreibung/d546cb2c-9c68-478f-8bb8-7940c3dc7331/
END:VEVENT
BEGIN:VEVENT
UID:e8da87de839d1604@ausschreibungsradar.com
DTSTAMP:20260424T130007Z
DTSTART;VALUE=DATE:20250723
DTEND;VALUE=DATE:20250723
SUMMARY:Ausschreibung — Jüdische Akademie Frankfurt - Raumausstattungsarbeiten II
DESCRIPTION:Phase: Ausschreibung | Beschreibung: Offizielle Ausschreibung mit Bieterfrist. | Link: https://ausschreibungsradar.com/ausschreibung/6ff7a9d3-95d7-42eb-9c6d-8f94fc3618b7/
URL:https://ausschreibungsradar.com/ausschreibung/6ff7a9d3-95d7-42eb-9c6d-8f94fc3618b7/
END:VEVENT
BEGIN:VEVENT
UID:f90acc3dd5677d3b@ausschreibungsradar.com
DTSTAMP:20260424T130007Z
DTSTART;VALUE=DATE:20250902
DTEND;VALUE=DATE:20250902
SUMMARY:Angebotsfrist — Jüdische Akademie Frankfurt - Raumausstattungsarbeiten II
DESCRIPTION:Phase: Ausschreibung | Beschreibung: Angebote werden eingeholt | Link: https://ausschreibungsradar.com/ausschreibung/5625f56c-a084-4079-8788-e1a2e0f86c96/
URL:https://ausschreibungsradar.com/ausschreibung/5625f56c-a084-4079-8788-e1a2e0f86c96/
END:VEVENT
END:VCALENDAR
