BEGIN:VCALENDAR
VERSION:2.0
PRODID:-//AusschreibungsRadar//Timeline//DE
CALSCALE:GREGORIAN
METHOD:PUBLISH
X-WR-CALNAME:Projekt Strategische Partnerschaft Multimedia
X-WR-TIMEZONE:Europe/Berlin
BEGIN:VEVENT
UID:64e114c749a1cd1a@ausschreibungsradar.com
DTSTAMP:20260425T173135Z
DTSTART;VALUE=DATE:20250327
DTEND;VALUE=DATE:20250327
SUMMARY:Ausschreibung — Strategische Partnerschaft Multimedia
DESCRIPTION:Phase: Ausschreibung | Beschreibung: Abbruchabsicht angekündigt | Link: https://ausschreibungsradar.com/ausschreibung/56b5b2cd-e8ab-401e-83bc-d069ce691fea/
URL:https://ausschreibungsradar.com/ausschreibung/56b5b2cd-e8ab-401e-83bc-d069ce691fea/
END:VEVENT
BEGIN:VEVENT
UID:9339634485b11a51@ausschreibungsradar.com
DTSTAMP:20260425T173135Z
DTSTART;VALUE=DATE:20250327
DTEND;VALUE=DATE:20250327
SUMMARY:Ausschreibung — Strategische Partnerschaft Multimedia
DESCRIPTION:Phase: Ausschreibung | Beschreibung: Offizielle Ausschreibung mit Bieterfrist. | Link: https://ausschreibungsradar.com/ausschreibung/87195a6b-4525-4f8c-86de-8f38d7382f2d/
URL:https://ausschreibungsradar.com/ausschreibung/87195a6b-4525-4f8c-86de-8f38d7382f2d/
END:VEVENT
BEGIN:VEVENT
UID:eebf761b71e0e99b@ausschreibungsradar.com
DTSTAMP:20260425T173135Z
DTSTART;VALUE=DATE:20250327
DTEND;VALUE=DATE:20250327
SUMMARY:Ausschreibung — Strategische Partnerschaft Multimedia
DESCRIPTION:Phase: Ausschreibung | Beschreibung: Offizielle Ausschreibung mit Bieterfrist. | Link: https://ausschreibungsradar.com/ausschreibung/29f2a214-72d1-4cc0-81a0-3d6a84745c4c/
URL:https://ausschreibungsradar.com/ausschreibung/29f2a214-72d1-4cc0-81a0-3d6a84745c4c/
END:VEVENT
BEGIN:VEVENT
UID:ff4abd3139dccaa7@ausschreibungsradar.com
DTSTAMP:20260425T173135Z
DTSTART;VALUE=DATE:20250327
DTEND;VALUE=DATE:20250327
SUMMARY:Ausschreibung — Strategische Partnerschaft Multimedia
DESCRIPTION:Phase: Ausschreibung | Beschreibung: Offizielle Ausschreibung mit Bieterfrist. | Link: https://ausschreibungsradar.com/ausschreibung/85af1675-65f6-4f39-88fd-72023dd64b2e/
URL:https://ausschreibungsradar.com/ausschreibung/85af1675-65f6-4f39-88fd-72023dd64b2e/
END:VEVENT
END:VCALENDAR
