BEGIN:VCALENDAR
VERSION:2.0
PRODID:-//AusschreibungsRadar//Timeline//DE
CALSCALE:GREGORIAN
METHOD:PUBLISH
X-WR-CALNAME:Projekt Unterstützung der IT-Qualitätssicherung des GKV-Spitzenverba
X-WR-TIMEZONE:Europe/Berlin
BEGIN:VEVENT
UID:81b6c6fc4a00d7c2@ausschreibungsradar.com
DTSTAMP:20260425T162556Z
DTSTART;VALUE=DATE:20251110
DTEND;VALUE=DATE:20251110
SUMMARY:Angebotsfrist — Unterstützung der IT-Qualitätssicherung des GKV-Spitzenverba
DESCRIPTION:Phase: Ausschreibung | Beschreibung: Angebote werden eingeholt | Link: https://ausschreibungsradar.com/ausschreibung/8c6dc679-626b-4e26-8f96-781dfb71c0ab/
URL:https://ausschreibungsradar.com/ausschreibung/8c6dc679-626b-4e26-8f96-781dfb71c0ab/
END:VEVENT
BEGIN:VEVENT
UID:2b69514e9eff8005@ausschreibungsradar.com
DTSTAMP:20260425T162556Z
DTSTART;VALUE=DATE:20251231
DTEND;VALUE=DATE:20251231
SUMMARY:Vergabeergebnis — Unterstützung der IT-Qualitätssicherung des GKV-Spitzenverba
DESCRIPTION:Phase: Vergabeergebnis | Beschreibung: Auftrag wurde zugeschlagen | Link: https://ausschreibungsradar.com/ausschreibung/56df35ae-2f63-4602-bcde-861fd196943a/
URL:https://ausschreibungsradar.com/ausschreibung/56df35ae-2f63-4602-bcde-861fd196943a/
END:VEVENT
END:VCALENDAR
