BEGIN:VCALENDAR
VERSION:2.0
PRODID:-//AusschreibungsRadar//Timeline//DE
CALSCALE:GREGORIAN
METHOD:PUBLISH
X-WR-CALNAME:Projekt MZS Mellum– Werftliegezeit zur Zwischenbesichtigung 2025
X-WR-TIMEZONE:Europe/Berlin
BEGIN:VEVENT
UID:f3c691c399ed90fc@ausschreibungsradar.com
DTSTAMP:20260425T003904Z
DTSTART;VALUE=DATE:20250321
DTEND;VALUE=DATE:20250321
SUMMARY:Ausschreibung — MZS Mellum– Werftliegezeit zur Zwischenbesichtigung 2025
DESCRIPTION:Phase: Ausschreibung | Beschreibung: Angebote werden eingeholt | Link: https://ausschreibungsradar.com/ausschreibung/4d1ee3c6-f0c0-484e-9f4d-11db802c343d/
URL:https://ausschreibungsradar.com/ausschreibung/4d1ee3c6-f0c0-484e-9f4d-11db802c343d/
END:VEVENT
BEGIN:VEVENT
UID:8057722a7ef8cb75@ausschreibungsradar.com
DTSTAMP:20260425T003904Z
DTSTART;VALUE=DATE:20250512
DTEND;VALUE=DATE:20250512
SUMMARY:Ausschreibung — MZS Mellum– Werftliegezeit zur Zwischenbesichtigung 2025
DESCRIPTION:Phase: Ausschreibung | Beschreibung: Offizielle Ausschreibung mit Bieterfrist. | Link: https://ausschreibungsradar.com/ausschreibung/e7facdd7-246d-4ed3-a41d-82cc00f44534/
URL:https://ausschreibungsradar.com/ausschreibung/e7facdd7-246d-4ed3-a41d-82cc00f44534/
END:VEVENT
BEGIN:VEVENT
UID:88ba1a7418c2d44f@ausschreibungsradar.com
DTSTAMP:20260425T003904Z
DTSTART;VALUE=DATE:20250611
DTEND;VALUE=DATE:20250611
SUMMARY:Vergabeergebnis — MZS Mellum– Werftliegezeit zur Zwischenbesichtigung 2025
DESCRIPTION:Phase: Vergabeergebnis | Beschreibung: Auftrag wurde zugeschlagen | Link: https://ausschreibungsradar.com/ausschreibung/56f6f12d-77fc-4580-94a6-6d4cbadb3f3a/
URL:https://ausschreibungsradar.com/ausschreibung/56f6f12d-77fc-4580-94a6-6d4cbadb3f3a/
END:VEVENT
END:VCALENDAR
