BEGIN:VCALENDAR
VERSION:2.0
PRODID:-//AusschreibungsRadar//Timeline//DE
CALSCALE:GREGORIAN
METHOD:PUBLISH
X-WR-CALNAME:Projekt Waser-Ems Halle - Sanierung Kramermarktgelände 2. BA
X-WR-TIMEZONE:Europe/Berlin
BEGIN:VEVENT
UID:e8ba613b067de1dd@ausschreibungsradar.com
DTSTAMP:20260425T190127Z
DTSTART;VALUE=DATE:20250918
DTEND;VALUE=DATE:20250918
SUMMARY:Ausschreibung — Waser-Ems Halle - Sanierung Kramermarktgelände 2. BA
DESCRIPTION:Phase: Ausschreibung | Beschreibung: Angebote werden eingeholt | Link: https://ausschreibungsradar.com/ausschreibung/570a7520-d7c4-4f7f-8b4a-e82876c0171d/
URL:https://ausschreibungsradar.com/ausschreibung/570a7520-d7c4-4f7f-8b4a-e82876c0171d/
END:VEVENT
BEGIN:VEVENT
UID:041c02b4ac3901c8@ausschreibungsradar.com
DTSTAMP:20260425T190127Z
DTSTART;VALUE=DATE:20250918
DTEND;VALUE=DATE:20250918
SUMMARY:Ausschreibung — Waser-Ems Halle - Sanierung Kramermarktgelände 2. BA
DESCRIPTION:Phase: Ausschreibung | Beschreibung: Offizielle Ausschreibung mit Bieterfrist. | Link: https://ausschreibungsradar.com/ausschreibung/655d691a-b267-45ef-a93b-c46fcbcfbbfd/
URL:https://ausschreibungsradar.com/ausschreibung/655d691a-b267-45ef-a93b-c46fcbcfbbfd/
END:VEVENT
BEGIN:VEVENT
UID:a65d17ce98cf80f0@ausschreibungsradar.com
DTSTAMP:20260425T190127Z
DTSTART;VALUE=DATE:20250918
DTEND;VALUE=DATE:20250918
SUMMARY:Ausschreibung — Waser-Ems Halle - Sanierung Kramermarktgelände 2. BA
DESCRIPTION:Phase: Ausschreibung | Beschreibung: Offizielle Ausschreibung mit Bieterfrist. | Link: https://ausschreibungsradar.com/ausschreibung/cab5a866-7c84-4302-a074-0b9d622d8d8a/
URL:https://ausschreibungsradar.com/ausschreibung/cab5a866-7c84-4302-a074-0b9d622d8d8a/
END:VEVENT
BEGIN:VEVENT
UID:700c177da9c592a7@ausschreibungsradar.com
DTSTAMP:20260425T190127Z
DTSTART;VALUE=DATE:20250918
DTEND;VALUE=DATE:20250918
SUMMARY:Ausschreibung — Waser-Ems Halle - Sanierung Kramermarktgelände 2. BA
DESCRIPTION:Phase: Ausschreibung | Beschreibung: Offizielle Ausschreibung mit Bieterfrist. | Link: https://ausschreibungsradar.com/ausschreibung/c244dc99-bf73-4d09-a40f-5952b59c2463/
URL:https://ausschreibungsradar.com/ausschreibung/c244dc99-bf73-4d09-a40f-5952b59c2463/
END:VEVENT
BEGIN:VEVENT
UID:96f5f153f8e0bedf@ausschreibungsradar.com
DTSTAMP:20260425T190127Z
DTSTART;VALUE=DATE:20250918
DTEND;VALUE=DATE:20250918
SUMMARY:Ausschreibung — Waser-Ems Halle - Sanierung Kramermarktgelände 2. BA
DESCRIPTION:Phase: Ausschreibung | Beschreibung: Offizielle Ausschreibung mit Bieterfrist. | Link: https://ausschreibungsradar.com/ausschreibung/682f6f95-1aef-4386-804e-ff8ef8caca60/
URL:https://ausschreibungsradar.com/ausschreibung/682f6f95-1aef-4386-804e-ff8ef8caca60/
END:VEVENT
BEGIN:VEVENT
UID:b1599924e1309e6c@ausschreibungsradar.com
DTSTAMP:20260425T190127Z
DTSTART;VALUE=DATE:20251218
DTEND;VALUE=DATE:20251218
SUMMARY:Vergabeergebnis — Waser-Ems Halle - Sanierung Kramermarktgelände 2. BA
DESCRIPTION:Phase: Vergabeergebnis | Beschreibung: Auftrag wurde zugeschlagen | Link: https://ausschreibungsradar.com/ausschreibung/907b68f0-55fa-4573-85e0-04be6ba1ef17/
URL:https://ausschreibungsradar.com/ausschreibung/907b68f0-55fa-4573-85e0-04be6ba1ef17/
END:VEVENT
END:VCALENDAR
