BEGIN:VCALENDAR
VERSION:2.0
PRODID:-//AusschreibungsRadar//Timeline//DE
CALSCALE:GREGORIAN
METHOD:PUBLISH
X-WR-CALNAME:Projekt Organisation of a Marketing Programme for German Wine in Pol
X-WR-TIMEZONE:Europe/Berlin
BEGIN:VEVENT
UID:420bb8e8f5e7e260@ausschreibungsradar.com
DTSTAMP:20260426T003106Z
DTSTART;VALUE=DATE:20260225
DTEND;VALUE=DATE:20260225
SUMMARY:Zuschlag — Organisation of a Marketing Programme for German Wine in Pol
DESCRIPTION:Phase: Zuschlag | Beschreibung: Vergabeergebnis — Auftrag wurde erteilt oder Verfahren beendet. | Link: https://ausschreibungsradar.com/ausschreibung/a4626d4c-e6b0-44db-ae7d-113cf3c28e9f/
URL:https://ausschreibungsradar.com/ausschreibung/a4626d4c-e6b0-44db-ae7d-113cf3c28e9f/
END:VEVENT
BEGIN:VEVENT
UID:67d197542d13eff1@ausschreibungsradar.com
DTSTAMP:20260426T003106Z
DTSTART;VALUE=DATE:20260312
DTEND;VALUE=DATE:20260312
SUMMARY:Ausschreibung — Organisation of a Marketing Programme for German Wine in Pol
DESCRIPTION:Phase: Ausschreibung | Beschreibung: Offizielle Ausschreibung mit Bieterfrist. | Link: https://ausschreibungsradar.com/ausschreibung/5731aa53-71ba-47f0-9afa-a51d50d26bbc/ | Geschätzter Wert: 816000 €
URL:https://ausschreibungsradar.com/ausschreibung/5731aa53-71ba-47f0-9afa-a51d50d26bbc/
END:VEVENT
END:VCALENDAR
