BEGIN:VCALENDAR
VERSION:2.0
PRODID:-//AusschreibungsRadar//Timeline//DE
CALSCALE:GREGORIAN
METHOD:PUBLISH
X-WR-CALNAME:Projekt Planung eines Funktions- und Servicegebäudes im Kulturpark W
X-WR-TIMEZONE:Europe/Berlin
BEGIN:VEVENT
UID:5643259c537b3f3b@ausschreibungsradar.com
DTSTAMP:20260424T113358Z
DTSTART;VALUE=DATE:20241209
DTEND;VALUE=DATE:20241209
SUMMARY:Angebotsfrist — Planung eines Funktions- und Servicegebäudes im Kulturpark W
DESCRIPTION:Phase: Ausschreibung | Beschreibung: Angebote werden eingeholt | Link: https://ausschreibungsradar.com/ausschreibung/5754b7ff-fba7-4652-a6c4-e7effd515a6a/
URL:https://ausschreibungsradar.com/ausschreibung/5754b7ff-fba7-4652-a6c4-e7effd515a6a/
END:VEVENT
BEGIN:VEVENT
UID:889fe1ace25887f8@ausschreibungsradar.com
DTSTAMP:20260424T113358Z
DTSTART;VALUE=DATE:20241108
DTEND;VALUE=DATE:20241108
SUMMARY:Ausschreibung — Planung eines Funktions- und Servicegebäudes im Kulturpark W
DESCRIPTION:Phase: Ausschreibung | Beschreibung: Offizielle Ausschreibung mit Bieterfrist. | Link: https://ausschreibungsradar.com/ausschreibung/f684ef3a-7a34-4e43-aa20-503f0a731e15/
URL:https://ausschreibungsradar.com/ausschreibung/f684ef3a-7a34-4e43-aa20-503f0a731e15/
END:VEVENT
BEGIN:VEVENT
UID:64f44a7fb5e7d128@ausschreibungsradar.com
DTSTAMP:20260424T113358Z
DTSTART;VALUE=DATE:20250205
DTEND;VALUE=DATE:20250205
SUMMARY:Vergabeergebnis — Planung eines Funktions- und Servicegebäudes im Kulturpark W
DESCRIPTION:Phase: Vergabeergebnis | Beschreibung: Auftrag wurde zugeschlagen | Link: https://ausschreibungsradar.com/ausschreibung/49e3ddfd-8896-49b6-819f-123679be1df4/
URL:https://ausschreibungsradar.com/ausschreibung/49e3ddfd-8896-49b6-819f-123679be1df4/
END:VEVENT
END:VCALENDAR
