BEGIN:VCALENDAR
VERSION:2.0
PRODID:-//AusschreibungsRadar//Timeline//DE
CALSCALE:GREGORIAN
METHOD:PUBLISH
X-WR-CALNAME:Projekt SW-MFD 2025
X-WR-TIMEZONE:Europe/Berlin
BEGIN:VEVENT
UID:702176b23f2fb72d@ausschreibungsradar.com
DTSTAMP:20260424T130051Z
DTSTART;VALUE=DATE:20250804
DTEND;VALUE=DATE:20250804
SUMMARY:Angebotsfrist — SW-MFD 2025
DESCRIPTION:Phase: Ausschreibung | Beschreibung: Angebote werden eingeholt | Link: https://ausschreibungsradar.com/ausschreibung/576cd084-20d7-4fc4-9bfd-91930adfceb1/
URL:https://ausschreibungsradar.com/ausschreibung/576cd084-20d7-4fc4-9bfd-91930adfceb1/
END:VEVENT
BEGIN:VEVENT
UID:6fe0421cf998e906@ausschreibungsradar.com
DTSTAMP:20260424T130051Z
DTSTART;VALUE=DATE:20250604
DTEND;VALUE=DATE:20250604
SUMMARY:Ausschreibung — SW-MFD 2025
DESCRIPTION:Phase: Ausschreibung | Beschreibung: Offizielle Ausschreibung mit Bieterfrist. | Link: https://ausschreibungsradar.com/ausschreibung/26f35842-80ad-4e26-9439-587b7b8cc1e8/
URL:https://ausschreibungsradar.com/ausschreibung/26f35842-80ad-4e26-9439-587b7b8cc1e8/
END:VEVENT
BEGIN:VEVENT
UID:f3c2d41d10ea5603@ausschreibungsradar.com
DTSTAMP:20260424T130051Z
DTSTART;VALUE=DATE:20250604
DTEND;VALUE=DATE:20250604
SUMMARY:Ausschreibung — SW-MFD 2025
DESCRIPTION:Phase: Ausschreibung | Beschreibung: Offizielle Ausschreibung mit Bieterfrist. | Link: https://ausschreibungsradar.com/ausschreibung/844e0870-ed90-43a1-b2af-6f5e390773dc/
URL:https://ausschreibungsradar.com/ausschreibung/844e0870-ed90-43a1-b2af-6f5e390773dc/
END:VEVENT
BEGIN:VEVENT
UID:482d48ede91bf09b@ausschreibungsradar.com
DTSTAMP:20260424T130051Z
DTSTART;VALUE=DATE:20250604
DTEND;VALUE=DATE:20250604
SUMMARY:Ausschreibung — SW-MFD 2025
DESCRIPTION:Phase: Ausschreibung | Beschreibung: Offizielle Ausschreibung mit Bieterfrist. | Link: https://ausschreibungsradar.com/ausschreibung/5fc98567-46de-4dd0-aebb-baedbddf56d4/
URL:https://ausschreibungsradar.com/ausschreibung/5fc98567-46de-4dd0-aebb-baedbddf56d4/
END:VEVENT
BEGIN:VEVENT
UID:9f8aa7b8fc1afbb7@ausschreibungsradar.com
DTSTAMP:20260424T130051Z
DTSTART;VALUE=DATE:20260108
DTEND;VALUE=DATE:20260108
SUMMARY:Vergabeergebnis — SW-MFD 2025
DESCRIPTION:Phase: Vergabeergebnis | Beschreibung: Auftrag wurde zugeschlagen | Link: https://ausschreibungsradar.com/ausschreibung/aaf1cadb-545d-4f6b-829d-31090089682c/
URL:https://ausschreibungsradar.com/ausschreibung/aaf1cadb-545d-4f6b-829d-31090089682c/
END:VEVENT
END:VCALENDAR
