BEGIN:VCALENDAR
VERSION:2.0
PRODID:-//AusschreibungsRadar//Timeline//DE
CALSCALE:GREGORIAN
METHOD:PUBLISH
X-WR-CALNAME:Projekt Sprachmittlungsdienstleistungen bei Schubmaßnahmen beim baye
X-WR-TIMEZONE:Europe/Berlin
BEGIN:VEVENT
UID:132f10e7cf633bd6@ausschreibungsradar.com
DTSTAMP:20260425T003643Z
DTSTART;VALUE=DATE:20260310
DTEND;VALUE=DATE:20260310
SUMMARY:Ausschreibung — Sprachmittlungsdienstleistungen bei Schubmaßnahmen beim baye
DESCRIPTION:Phase: Ausschreibung | Beschreibung: Angebote werden eingeholt | Link: https://ausschreibungsradar.com/ausschreibung/57782b50-40ac-4669-9394-0ae8ff4ce83e/
URL:https://ausschreibungsradar.com/ausschreibung/57782b50-40ac-4669-9394-0ae8ff4ce83e/
END:VEVENT
BEGIN:VEVENT
UID:860c91e8de42023e@ausschreibungsradar.com
DTSTAMP:20260425T003643Z
DTSTART;VALUE=DATE:20260310
DTEND;VALUE=DATE:20260310
SUMMARY:Ausschreibung — Sprachmittlungsdienstleistungen bei Schubmaßnahmen beim baye
DESCRIPTION:Phase: Ausschreibung | Beschreibung: Offizielle Ausschreibung mit Bieterfrist. | Link: https://ausschreibungsradar.com/ausschreibung/dc1db517-d953-4047-a4cf-4c1fddbb67ec/
URL:https://ausschreibungsradar.com/ausschreibung/dc1db517-d953-4047-a4cf-4c1fddbb67ec/
END:VEVENT
END:VCALENDAR
