BEGIN:VCALENDAR
VERSION:2.0
PRODID:-//AusschreibungsRadar//Timeline//DE
CALSCALE:GREGORIAN
METHOD:PUBLISH
X-WR-CALNAME:Projekt Betrieb von Gigabit-Netzen in Römerstein
X-WR-TIMEZONE:Europe/Berlin
BEGIN:VEVENT
UID:7066107d4ef5436c@ausschreibungsradar.com
DTSTAMP:20260425T015405Z
DTSTART;VALUE=DATE:20250416
DTEND;VALUE=DATE:20250416
SUMMARY:Ausschreibung — Betrieb von Gigabit-Netzen in Römerstein
DESCRIPTION:Phase: Ausschreibung | Beschreibung: Angebote werden eingeholt | Link: https://ausschreibungsradar.com/ausschreibung/579ec49f-4867-4d27-9e9f-2ff1d5f39cfc/ | Geschätzter Wert: 11866478 €
URL:https://ausschreibungsradar.com/ausschreibung/579ec49f-4867-4d27-9e9f-2ff1d5f39cfc/
END:VEVENT
BEGIN:VEVENT
UID:5239ff46ba804ce7@ausschreibungsradar.com
DTSTAMP:20260425T015405Z
DTSTART;VALUE=DATE:20251112
DTEND;VALUE=DATE:20251112
SUMMARY:Vergabeergebnis — Betrieb von Gigabit-Netzen in Römerstein
DESCRIPTION:Phase: Vergabeergebnis | Beschreibung: Auftrag wurde zugeschlagen | Link: https://ausschreibungsradar.com/ausschreibung/f34542e0-adad-4b55-9585-4ff7fa6e1b69/
URL:https://ausschreibungsradar.com/ausschreibung/f34542e0-adad-4b55-9585-4ff7fa6e1b69/
END:VEVENT
END:VCALENDAR
