BEGIN:VCALENDAR
VERSION:2.0
PRODID:-//AusschreibungsRadar//Timeline//DE
CALSCALE:GREGORIAN
METHOD:PUBLISH
X-WR-CALNAME:Projekt Neubau Rathaus Altenberge, Förderanlagen
X-WR-TIMEZONE:Europe/Berlin
BEGIN:VEVENT
UID:216caf75237377b0@ausschreibungsradar.com
DTSTAMP:20260423T232607Z
DTSTART;VALUE=DATE:20251117
DTEND;VALUE=DATE:20251117
SUMMARY:Angebotsfrist — Neubau Rathaus Altenberge\, Förderanlagen
DESCRIPTION:Phase: Ausschreibung | Beschreibung: Angebote werden eingeholt | Link: https://ausschreibungsradar.com/ausschreibung/58ff4144-10eb-4e5f-9879-e26b0ab7046f/
URL:https://ausschreibungsradar.com/ausschreibung/58ff4144-10eb-4e5f-9879-e26b0ab7046f/
END:VEVENT
BEGIN:VEVENT
UID:59878cba3e1d8abd@ausschreibungsradar.com
DTSTAMP:20260423T232607Z
DTSTART;VALUE=DATE:20260113
DTEND;VALUE=DATE:20260113
SUMMARY:Vergabeergebnis — Neubau Rathaus Altenberge\, Förderanlagen
DESCRIPTION:Phase: Vergabeergebnis | Beschreibung: Auftrag wurde zugeschlagen | Link: https://ausschreibungsradar.com/ausschreibung/67e134fa-56ad-48be-9e1a-8e6c8df55c3f/
URL:https://ausschreibungsradar.com/ausschreibung/67e134fa-56ad-48be-9e1a-8e6c8df55c3f/
END:VEVENT
END:VCALENDAR
