BEGIN:VCALENDAR
VERSION:2.0
PRODID:-//AusschreibungsRadar//Timeline//DE
CALSCALE:GREGORIAN
METHOD:PUBLISH
X-WR-CALNAME:Projekt H2 Tankstelle - Los 5 Bauleistungen
X-WR-TIMEZONE:Europe/Berlin
BEGIN:VEVENT
UID:c193631ee4d4ba26@ausschreibungsradar.com
DTSTAMP:20260425T224019Z
DTSTART;VALUE=DATE:20250218
DTEND;VALUE=DATE:20250218
SUMMARY:Angebotsfrist — H2 Tankstelle - Los 5 Bauleistungen
DESCRIPTION:Phase: Ausschreibung | Beschreibung: Angebote werden eingeholt | Link: https://ausschreibungsradar.com/ausschreibung/59e04c6f-228f-444b-9fdb-8c6cd3b0a247/
URL:https://ausschreibungsradar.com/ausschreibung/59e04c6f-228f-444b-9fdb-8c6cd3b0a247/
END:VEVENT
END:VCALENDAR
