BEGIN:VCALENDAR
VERSION:2.0
PRODID:-//AusschreibungsRadar//Timeline//DE
CALSCALE:GREGORIAN
METHOD:PUBLISH
X-WR-CALNAME:Projekt Planungsleistungen für die Fachplanung – Technische Gebäudea
X-WR-TIMEZONE:Europe/Berlin
BEGIN:VEVENT
UID:1f7f9bfeed905103@ausschreibungsradar.com
DTSTAMP:20260424T223743Z
DTSTART;VALUE=DATE:20250926
DTEND;VALUE=DATE:20250926
SUMMARY:Angebotsfrist — Planungsleistungen für die Fachplanung – Technische Gebäudea
DESCRIPTION:Phase: Ausschreibung | Beschreibung: Angebote werden eingeholt | Link: https://ausschreibungsradar.com/ausschreibung/8df005f9-e721-40d4-a559-5f099e1bfa8c/
URL:https://ausschreibungsradar.com/ausschreibung/8df005f9-e721-40d4-a559-5f099e1bfa8c/
END:VEVENT
BEGIN:VEVENT
UID:6c717ae290795fcf@ausschreibungsradar.com
DTSTAMP:20260424T223743Z
DTSTART;VALUE=DATE:20251217
DTEND;VALUE=DATE:20251217
SUMMARY:Vergabeergebnis — Planungsleistungen für die Fachplanung – Technische Gebäudea
DESCRIPTION:Phase: Vergabeergebnis | Beschreibung: Sonstige Gründe | Link: https://ausschreibungsradar.com/ausschreibung/59ff9e2f-d94b-4488-9ada-a4d66717d522/
URL:https://ausschreibungsradar.com/ausschreibung/59ff9e2f-d94b-4488-9ada-a4d66717d522/
END:VEVENT
END:VCALENDAR
