BEGIN:VCALENDAR
VERSION:2.0
PRODID:-//AusschreibungsRadar//Timeline//DE
CALSCALE:GREGORIAN
METHOD:PUBLISH
X-WR-CALNAME:Projekt Gebäudereinigung
X-WR-TIMEZONE:Europe/Berlin
BEGIN:VEVENT
UID:4f39993a9c13e72a@ausschreibungsradar.com
DTSTAMP:20260425T223758Z
DTSTART;VALUE=DATE:20260407
DTEND;VALUE=DATE:20260407
SUMMARY:Angebotsfrist — Gebäudereinigung
DESCRIPTION:Phase: Ausschreibung | Beschreibung: Angebote werden eingeholt | Link: https://ausschreibungsradar.com/ausschreibung/5da75d32-c63f-400c-a394-806be0cc3dc5/
URL:https://ausschreibungsradar.com/ausschreibung/5da75d32-c63f-400c-a394-806be0cc3dc5/
END:VEVENT
END:VCALENDAR
