BEGIN:VCALENDAR
VERSION:2.0
PRODID:-//AusschreibungsRadar//Timeline//DE
CALSCALE:GREGORIAN
METHOD:PUBLISH
X-WR-CALNAME:Projekt NAP10 | Neubau Alter Postplatz Waiblingen
Landschaftsgärtner
X-WR-TIMEZONE:Europe/Berlin
BEGIN:VEVENT
UID:177932fbae14904d@ausschreibungsradar.com
DTSTAMP:20260426T034541Z
DTSTART;VALUE=DATE:20250205
DTEND;VALUE=DATE:20250205
SUMMARY:Ausschreibung — NAP10 | Neubau Alter Postplatz Waiblingen\nLandschaftsgärtner
DESCRIPTION:Phase: Ausschreibung | Beschreibung: Offizielle Ausschreibung mit Bieterfrist. | Link: https://ausschreibungsradar.com/ausschreibung/59e89092-89c3-44e9-87b3-0ec844ddaae0/
URL:https://ausschreibungsradar.com/ausschreibung/59e89092-89c3-44e9-87b3-0ec844ddaae0/
END:VEVENT
BEGIN:VEVENT
UID:84d7698584402abc@ausschreibungsradar.com
DTSTAMP:20260426T034541Z
DTSTART;VALUE=DATE:20250530
DTEND;VALUE=DATE:20250530
SUMMARY:Ausschreibung — NAP10 | Neubau Alter Postplatz Waiblingen\nLandschaftsgärtner
DESCRIPTION:Phase: Ausschreibung | Beschreibung: Offizielle Ausschreibung mit Bieterfrist. | Link: https://ausschreibungsradar.com/ausschreibung/76297679-5c56-4ead-98e2-9207856b9279/
URL:https://ausschreibungsradar.com/ausschreibung/76297679-5c56-4ead-98e2-9207856b9279/
END:VEVENT
BEGIN:VEVENT
UID:186db75994765c6f@ausschreibungsradar.com
DTSTAMP:20260426T034541Z
DTSTART;VALUE=DATE:20250702
DTEND;VALUE=DATE:20250702
SUMMARY:Angebotsfrist — NAP10 | Neubau Alter Postplatz Waiblingen\nLandschaftsgärtner
DESCRIPTION:Phase: Ausschreibung | Beschreibung: Angebote werden eingeholt | Link: https://ausschreibungsradar.com/ausschreibung/5e2b2d9b-d9ef-4035-b8a9-d2b13d3b8dcf/
URL:https://ausschreibungsradar.com/ausschreibung/5e2b2d9b-d9ef-4035-b8a9-d2b13d3b8dcf/
END:VEVENT
BEGIN:VEVENT
UID:202eb422e6b41598@ausschreibungsradar.com
DTSTAMP:20260426T034541Z
DTSTART;VALUE=DATE:20250604
DTEND;VALUE=DATE:20250604
SUMMARY:Ausschreibung — NAP10 | Neubau Alter Postplatz Waiblingen\nLandschaftsgärtner
DESCRIPTION:Phase: Ausschreibung | Beschreibung: Offizielle Ausschreibung mit Bieterfrist. | Link: https://ausschreibungsradar.com/ausschreibung/145dd779-8fdd-4412-b925-d80d32afe7e2/
URL:https://ausschreibungsradar.com/ausschreibung/145dd779-8fdd-4412-b925-d80d32afe7e2/
END:VEVENT
BEGIN:VEVENT
UID:760b5ee8697fbb0a@ausschreibungsradar.com
DTSTAMP:20260426T034541Z
DTSTART;VALUE=DATE:20250814
DTEND;VALUE=DATE:20250814
SUMMARY:Zuschlag — NAP10 | Neubau Alter Postplatz Waiblingen\nLandschaftsgärtner
DESCRIPTION:Phase: Zuschlag | Beschreibung: Vergabeergebnis — Auftrag wurde erteilt oder Verfahren beendet. | Link: https://ausschreibungsradar.com/ausschreibung/a28ba888-c1d0-48b7-a8f0-226be71189c0/
URL:https://ausschreibungsradar.com/ausschreibung/a28ba888-c1d0-48b7-a8f0-226be71189c0/
END:VEVENT
BEGIN:VEVENT
UID:9b2b1f70e075db43@ausschreibungsradar.com
DTSTAMP:20260426T034541Z
DTSTART;VALUE=DATE:20250821
DTEND;VALUE=DATE:20250821
SUMMARY:Vergabeergebnis — NAP10 | Neubau Alter Postplatz Waiblingen\nLandschaftsgärtner
DESCRIPTION:Phase: Vergabeergebnis | Beschreibung: Auftrag wurde zugeschlagen | Link: https://ausschreibungsradar.com/ausschreibung/2299bc89-c56d-48ee-a9d6-eb973c28f159/
URL:https://ausschreibungsradar.com/ausschreibung/2299bc89-c56d-48ee-a9d6-eb973c28f159/
END:VEVENT
END:VCALENDAR
