BEGIN:VCALENDAR
VERSION:2.0
PRODID:-//AusschreibungsRadar//Timeline//DE
CALSCALE:GREGORIAN
METHOD:PUBLISH
X-WR-CALNAME:Projekt A45, Neubau Lärmschutzwand TB Rinsdorf und Rälsbach
X-WR-TIMEZONE:Europe/Berlin
BEGIN:VEVENT
UID:37723f0e8c50dfd3@ausschreibungsradar.com
DTSTAMP:20260424T080711Z
DTSTART;VALUE=DATE:20240320
DTEND;VALUE=DATE:20240320
SUMMARY:Angebotsfrist — A45\, Neubau Lärmschutzwand TB Rinsdorf und Rälsbach
DESCRIPTION:Phase: Ausschreibung | Beschreibung: Angebote werden eingeholt | Link: https://ausschreibungsradar.com/ausschreibung/2cf35ae4-dbab-443b-ba02-d0226783ee01/
URL:https://ausschreibungsradar.com/ausschreibung/2cf35ae4-dbab-443b-ba02-d0226783ee01/
END:VEVENT
BEGIN:VEVENT
UID:6a54c840ea303324@ausschreibungsradar.com
DTSTAMP:20260424T080711Z
DTSTART;VALUE=DATE:20240430
DTEND;VALUE=DATE:20240430
SUMMARY:Vergabeergebnis — A45\, Neubau Lärmschutzwand TB Rinsdorf und Rälsbach
DESCRIPTION:Phase: Vergabeergebnis | Beschreibung: Auftrag wurde zugeschlagen | Link: https://ausschreibungsradar.com/ausschreibung/5f6a7b64-e814-4da3-b489-9932a7e5fc7f/
URL:https://ausschreibungsradar.com/ausschreibung/5f6a7b64-e814-4da3-b489-9932a7e5fc7f/
END:VEVENT
END:VCALENDAR
