BEGIN:VCALENDAR
VERSION:2.0
PRODID:-//AusschreibungsRadar//Timeline//DE
CALSCALE:GREGORIAN
METHOD:PUBLISH
X-WR-CALNAME:Projekt 243SOY17 - Soyerhofstr. 17, München LV203 Sprinkleranlage
X-WR-TIMEZONE:Europe/Berlin
BEGIN:VEVENT
UID:6a6aa0e604ed56c9@ausschreibungsradar.com
DTSTAMP:20260425T193217Z
DTSTART;VALUE=DATE:20250116
DTEND;VALUE=DATE:20250116
SUMMARY:Angebotsfrist — 243SOY17 - Soyerhofstr. 17\, München LV203 Sprinkleranlage
DESCRIPTION:Phase: Ausschreibung | Beschreibung: Angebote werden eingeholt | Link: https://ausschreibungsradar.com/ausschreibung/61addd67-1033-42d1-83c9-980dd5cd2778/
URL:https://ausschreibungsradar.com/ausschreibung/61addd67-1033-42d1-83c9-980dd5cd2778/
END:VEVENT
BEGIN:VEVENT
UID:212d0ea21298189b@ausschreibungsradar.com
DTSTAMP:20260425T193217Z
DTSTART;VALUE=DATE:20250313
DTEND;VALUE=DATE:20250313
SUMMARY:Vergabeergebnis — 243SOY17 - Soyerhofstr. 17\, München LV203 Sprinkleranlage
DESCRIPTION:Phase: Vergabeergebnis | Beschreibung: Auftrag wurde zugeschlagen | Link: https://ausschreibungsradar.com/ausschreibung/06f53791-e116-4ae3-ae72-ab175b7eda60/
URL:https://ausschreibungsradar.com/ausschreibung/06f53791-e116-4ae3-ae72-ab175b7eda60/
END:VEVENT
END:VCALENDAR
