BEGIN:VCALENDAR
VERSION:2.0
PRODID:-//AusschreibungsRadar//Timeline//DE
CALSCALE:GREGORIAN
METHOD:PUBLISH
X-WR-CALNAME:Projekt VE05 Erweiterte Rohbauarbeiten - Grundschule Barendorf
X-WR-TIMEZONE:Europe/Berlin
BEGIN:VEVENT
UID:7ce15b1ef3f2138f@ausschreibungsradar.com
DTSTAMP:20260425T202337Z
DTSTART;VALUE=DATE:20251118
DTEND;VALUE=DATE:20251118
SUMMARY:Angebotsfrist — VE05 Erweiterte Rohbauarbeiten - Grundschule Barendorf
DESCRIPTION:Phase: Ausschreibung | Beschreibung: Angebote werden eingeholt | Link: https://ausschreibungsradar.com/ausschreibung/8832ac02-8648-4796-8290-fb311faf7bb4/
URL:https://ausschreibungsradar.com/ausschreibung/8832ac02-8648-4796-8290-fb311faf7bb4/
END:VEVENT
BEGIN:VEVENT
UID:d8ed73c34fe8ef97@ausschreibungsradar.com
DTSTAMP:20260425T202337Z
DTSTART;VALUE=DATE:20251016
DTEND;VALUE=DATE:20251016
SUMMARY:Ausschreibung — VE05 Erweiterte Rohbauarbeiten - Grundschule Barendorf
DESCRIPTION:Phase: Ausschreibung | Beschreibung: Offizielle Ausschreibung mit Bieterfrist. | Link: https://ausschreibungsradar.com/ausschreibung/e841e73c-b777-4d41-9ed1-0aced53965ed/
URL:https://ausschreibungsradar.com/ausschreibung/e841e73c-b777-4d41-9ed1-0aced53965ed/
END:VEVENT
BEGIN:VEVENT
UID:bfeecfcff37ec7bd@ausschreibungsradar.com
DTSTAMP:20260425T202337Z
DTSTART;VALUE=DATE:20260210
DTEND;VALUE=DATE:20260210
SUMMARY:Vergabeergebnis — VE05 Erweiterte Rohbauarbeiten - Grundschule Barendorf
DESCRIPTION:Phase: Vergabeergebnis | Beschreibung: Auftrag wurde zugeschlagen | Link: https://ausschreibungsradar.com/ausschreibung/61c25172-40b7-4e36-b333-323efaa35c7a/
URL:https://ausschreibungsradar.com/ausschreibung/61c25172-40b7-4e36-b333-323efaa35c7a/
END:VEVENT
END:VCALENDAR
