BEGIN:VCALENDAR
VERSION:2.0
PRODID:-//AusschreibungsRadar//Timeline//DE
CALSCALE:GREGORIAN
METHOD:PUBLISH
X-WR-CALNAME:Projekt Tischlerarbeiten a
X-WR-TIMEZONE:Europe/Berlin
BEGIN:VEVENT
UID:3cc2402de9e5e211@ausschreibungsradar.com
DTSTAMP:20260425T154448Z
DTSTART;VALUE=DATE:20260219
DTEND;VALUE=DATE:20260219
SUMMARY:Angebotsfrist — Tischlerarbeiten a
DESCRIPTION:Phase: Ausschreibung | Beschreibung: Angebote werden eingeholt | Link: https://ausschreibungsradar.com/ausschreibung/20cc9ff6-1fd4-4270-b975-c459c17bb95a/
URL:https://ausschreibungsradar.com/ausschreibung/20cc9ff6-1fd4-4270-b975-c459c17bb95a/
END:VEVENT
BEGIN:VEVENT
UID:21f52c7aaac94f50@ausschreibungsradar.com
DTSTAMP:20260425T154448Z
DTSTART;VALUE=DATE:20260420
DTEND;VALUE=DATE:20260420
SUMMARY:Vergabeergebnis — Tischlerarbeiten a
DESCRIPTION:Phase: Vergabeergebnis | Beschreibung: Auftrag wurde zugeschlagen | Link: https://ausschreibungsradar.com/ausschreibung/623aa046-9fb6-4554-ae76-fa2842aceb48/ | Auftragnehmer: Möbelwerkstätte Aumüller 
URL:https://ausschreibungsradar.com/ausschreibung/623aa046-9fb6-4554-ae76-fa2842aceb48/
END:VEVENT
BEGIN:VEVENT
UID:2a861240bf993d7a@ausschreibungsradar.com
DTSTAMP:20260425T154448Z
DTSTART;VALUE=DATE:20260421
DTEND;VALUE=DATE:20260421
SUMMARY:Zuschlag — Tischlerarbeiten a
DESCRIPTION:Phase: Zuschlag | Beschreibung: Vergabeergebnis — Auftrag wurde erteilt oder Verfahren beendet. | Link: https://ausschreibungsradar.com/ausschreibung/ted-270367-2026/
URL:https://ausschreibungsradar.com/ausschreibung/ted-270367-2026/
END:VEVENT
END:VCALENDAR
